BEGIN:VCALENDAR
VERSION:2.0
PRODID:-//lickingswcd.com//NONSGML kigkonsult.se iCalcreator 2.30.10//
CALSCALE:GREGORIAN
METHOD:PUBLISH
UID:aede1fa6-98d8-4ae8-88af-7596420da5d8
X-WR-CALDESC:Join Licking County Soil & Water for a Rain Barrel demonstrati
 on. Learn the benefits of using a rain barrel\, how to construct a barrel\
 , and why stormwater control is important. Free to attend. RSVP below.  \n
 \nPlease note: This is not a DIY workshop. Rain barrels available at LCSWC
 D for $30 unplumbed\, or $65 plumbed.  \n
X-WR-RELCALID:4de0e3c6da949134d5255198fc138e48
X-WR-TIMEZONE:America/New_York
BEGIN:VTIMEZONE
TZID:America/New_York
BEGIN:STANDARD
TZNAME:EST
DTSTART:20181104T020000
TZOFFSETFROM:-0400
TZOFFSETTO:-0500
RDATE:20191103T020000
END:STANDARD
BEGIN:DAYLIGHT
TZNAME:EDT
DTSTART:20190310T020000
TZOFFSETFROM:-0500
TZOFFSETTO:-0400
RDATE:20200308T020000
END:DAYLIGHT
END:VTIMEZONE
BEGIN:VEVENT
UID:e47a1dff-6b06-4e97-a3aa-45a55be04fec
DTSTAMP:20260422T224212Z
DESCRIPTION:Join Licking County Soil & Water for a Rain Barrel demonstratio
 n. Learn the benefits of using a rain barrel\, how to construct a barrel\,
  and why stormwater control is important. Free to attend. RSVP below.  \n
 \nPlease note: This is not a DIY workshop. Rain barrels available at LCSWC
 D for $30 unplumbed\, or $65 plumbed.  \n
DTSTART;TZID=America/New_York:20190323T100000
DTEND;TZID=America/New_York:20190323T120000
LOCATION:Wilson Garden Center\, 10923 Lambs Ln\, Newark\, Ohio. 43055
SUMMARY:Rain Barrel Demonstration at Wilson's Garden Center
END:VEVENT
END:VCALENDAR
