BEGIN:VCALENDAR
VERSION:2.0
PRODID:-//lickingswcd.com//NONSGML kigkonsult.se iCalcreator 2.30.10//
CALSCALE:GREGORIAN
METHOD:PUBLISH
UID:d02ae18f-01de-44da-9976-553d060996fa
X-WR-CALDESC:Conference Highlights:  \n​\n​REGISTRATION FOLLOWED BY MUFFINS
 /COFFEE/TEA \nHOMEMADE SOUP/SALAD/BREAD/COOKIES FOR LUNCH \nFOUR PROFESSIO
 NAL PRESENTATIONS! \n BREAKOUT SESSIONS:\nSucculent Artistry\nArtful Veggi
 es in Containers\nNature's Castoffs\n​Kokedama​\n\nAND VENDORS \nRAFFLE IT
 EMS!\n\nTickets on sale till Friday\, March 22 at 5 pm\nEARLY BIRD TICKET 
 PRICE: $40.00\nDAY OF CONFERENCE - TICKET PRICE $50.00\n\n\n\n\n\n\n
X-WR-RELCALID:f3bb3c0bbeb4d6e30f1ea2ba2a6ab8c9
X-WR-TIMEZONE:America/New_York
BEGIN:VTIMEZONE
TZID:America/New_York
BEGIN:STANDARD
TZNAME:EST
DTSTART:20181104T020000
TZOFFSETFROM:-0400
TZOFFSETTO:-0500
RDATE:20191103T020000
END:STANDARD
BEGIN:DAYLIGHT
TZNAME:EDT
DTSTART:20190310T020000
TZOFFSETFROM:-0500
TZOFFSETTO:-0400
RDATE:20200308T020000
END:DAYLIGHT
END:VTIMEZONE
BEGIN:VEVENT
UID:78d38ac3-c38c-448f-b80d-f8547e7542f3
DTSTAMP:20260422T214732Z
DESCRIPTION:Conference Highlights:  \n​\n​REGISTRATION FOLLOWED BY MUFFINS/
 COFFEE/TEA \nHOMEMADE SOUP/SALAD/BREAD/COOKIES FOR LUNCH \nFOUR PROFESSION
 AL PRESENTATIONS! \n BREAKOUT SESSIONS:\nSucculent Artistry\nArtful Veggie
 s in Containers\nNature's Castoffs\n​Kokedama​\n\nAND VENDORS \nRAFFLE ITE
 MS!\n\nTickets on sale till Friday\, March 22 at 5 pm\nEARLY BIRD TICKET P
 RICE: $40.00\nDAY OF CONFERENCE - TICKET PRICE $50.00\n\n\n\n\n\n\n
DTSTART;TZID=America/New_York:20190323T090000
DTEND;TZID=America/New_York:20190323T160000
LOCATION:Community Wesleyan Church
SUMMARY:Soil & Water @ Four Seasons of Gardening Master Gardener Conference
END:VEVENT
END:VCALENDAR
