BEGIN:VCALENDAR
VERSION:2.0
PRODID:-//lickingswcd.com//NONSGML kigkonsult.se iCalcreator 2.30.10//
CALSCALE:GREGORIAN
METHOD:PUBLISH
UID:0a0f0e31-05ef-4086-90c9-3cf25beb4cc5
X-WR-CALDESC:
X-WR-RELCALID:e402f1b29d96f49e4ab235a1f328429a
X-WR-TIMEZONE:America/New_York
BEGIN:VTIMEZONE
TZID:America/New_York
BEGIN:STANDARD
TZNAME:EST
DTSTART:20181104T020000
TZOFFSETFROM:-0400
TZOFFSETTO:-0500
RDATE:20191103T020000
END:STANDARD
BEGIN:DAYLIGHT
TZNAME:EDT
DTSTART:20190310T020000
TZOFFSETFROM:-0500
TZOFFSETTO:-0400
RDATE:20200308T020000
END:DAYLIGHT
END:VTIMEZONE
BEGIN:VEVENT
UID:5e49e9b8-9c58-4cec-b2a3-eb3e10a9e2ea
DTSTAMP:20260422T224005Z
DESCRIPTION:
DTSTART;TZID=America/New_York:20190325T130000
DTEND;TZID=America/New_York:20190325T140000
LOCATION:
SUMMARY:2019 Tree Sale- Last Day to Place Your Order!
END:VEVENT
END:VCALENDAR
