BEGIN:VCALENDAR
VERSION:2.0
PRODID:-//lickingswcd.com//NONSGML kigkonsult.se iCalcreator 2.30.10//
CALSCALE:GREGORIAN
METHOD:PUBLISH
UID:2cc4be1b-af9e-4847-a081-fe3690c74e34
X-WR-CALDESC:The Licking County Agricultural Hall of Fame was established t
 o recognize those individuals who have demonstrated lifelong exemplary ser
 vice to their community and the industry of agriculture.\nCelebrate our hi
 story at the Agricultural Hall of Fame induction breakfast and ceremony on
  Friday\, March 29\, 2019 at the Reese Center on the Newark campus of OSU 
 and COTC at 7:30 a.m. Show your support of this 25-year tradition of celeb
 rating the superior service\, dedication\, leadership and plentiful contri
 butions to agriculture of the inductees.
X-WR-RELCALID:e6b1b4e28ee2d380e7173497ad45f2f5
X-WR-TIMEZONE:America/New_York
BEGIN:VTIMEZONE
TZID:America/New_York
BEGIN:STANDARD
TZNAME:EST
DTSTART:20181104T020000
TZOFFSETFROM:-0400
TZOFFSETTO:-0500
RDATE:20191103T020000
END:STANDARD
BEGIN:DAYLIGHT
TZNAME:EDT
DTSTART:20190310T020000
TZOFFSETFROM:-0500
TZOFFSETTO:-0400
RDATE:20200308T020000
END:DAYLIGHT
END:VTIMEZONE
BEGIN:VEVENT
UID:293a9ffb-282e-47ff-bca1-b12706740657
DTSTAMP:20260422T230350Z
DESCRIPTION:The Licking County Agricultural Hall of Fame was established to
  recognize those individuals who have demonstrated lifelong exemplary serv
 ice to their community and the industry of agriculture.\nCelebrate our his
 tory at the Agricultural Hall of Fame induction breakfast and ceremony on 
 Friday\, March 29\, 2019 at the Reese Center on the Newark campus of OSU a
 nd COTC at 7:30 a.m. Show your support of this 25-year tradition of celebr
 ating the superior service\, dedication\, leadership and plentiful contrib
 utions to agriculture of the inductees.
DTSTART;TZID=America/New_York:20190329T073000
DTEND;TZID=America/New_York:20190329T090000
LOCATION:Reese Center on the Newark campus of OSU and COTC
SUMMARY:Ag Hall of Fame Inductee Breakfast
END:VEVENT
END:VCALENDAR
