BEGIN:VCALENDAR
VERSION:2.0
PRODID:-//lickingswcd.com//NONSGML kigkonsult.se iCalcreator 2.30.10//
CALSCALE:GREGORIAN
METHOD:PUBLISH
UID:dc7a98bf-6c6c-47da-a763-1c2b82ba1f95
X-WR-CALDESC:Annually\, we distribute tens of thousands of trees.  Consider
  helping inventory and package the delicate seedling trees\, put together 
 wildflower seed packets and assist community members when they pick up the
 ir trees.  Opportunities are inside and outside\, sitting and standing\, a
 nd for a couple hours or for a whole day.  \n\nMorning only - 9:00 am - 12
 :00 pm - packaging and labeling wildflower seed packets inside\n\nAll Day 
 - 8:30 am - 3:30 pm - inventorying trees and prepping for packaging the bu
 lk trees into bundles.\n\nUse link below to sign up!
X-WR-RELCALID:8b7dba697b1c8c8106cc43dac57c8e3b
X-WR-TIMEZONE:America/New_York
BEGIN:VTIMEZONE
TZID:America/New_York
BEGIN:STANDARD
TZNAME:EST
DTSTART:20181104T020000
TZOFFSETFROM:-0400
TZOFFSETTO:-0500
RDATE:20191103T020000
END:STANDARD
BEGIN:DAYLIGHT
TZNAME:EDT
DTSTART:20190310T020000
TZOFFSETFROM:-0500
TZOFFSETTO:-0400
RDATE:20200308T020000
END:DAYLIGHT
END:VTIMEZONE
BEGIN:VEVENT
UID:d30e5041-ab77-4262-a276-74c02979548b
DTSTAMP:20260422T231057Z
DESCRIPTION:Annually\, we distribute tens of thousands of trees.  Consider 
 helping inventory and package the delicate seedling trees\, put together w
 ildflower seed packets and assist community members when they pick up thei
 r trees.  Opportunities are inside and outside\, sitting and standing\, an
 d for a couple hours or for a whole day.  \n\nMorning only - 9:00 am - 12:
 00 pm - packaging and labeling wildflower seed packets inside\n\nAll Day -
  8:30 am - 3:30 pm - inventorying trees and prepping for packaging the bul
 k trees into bundles.\n\nUse link below to sign up!
DTSTART;TZID=America/New_York:20190409T090000
DTEND;TZID=America/New_York:20190409T150000
LOCATION:Soil & Water barn\, 771 East Main Street\, Newark OH  43055
SUMMARY:Volunteer to Help with Tree Sale Prep
END:VEVENT
END:VCALENDAR
