BEGIN:VCALENDAR
VERSION:2.0
PRODID:-//lickingswcd.com//NONSGML kigkonsult.se iCalcreator 2.30.10//
CALSCALE:GREGORIAN
METHOD:PUBLISH
UID:41318cce-8b96-44ac-a36d-2f46fc890b06
X-WR-CALDESC:Annually\, we distribute tens of thousands of trees.  Consider
  helping inventory and package the delicate seedling trees\, put together 
 wildflower seed packets and assist community members when they pick up the
 ir trees.  Opportunities are inside and outside\, sitting and standing\, a
 nd for a couple hours or for a whole day.  \n\nMorning  - 8:30 am - 12:00 
 pm - filling and distributing large orders for partnering counties\nAftern
 oon - 12:00 pm - 3:30 pm - inventorying and preparing for Friday pick-ups
 \n\nUse link below to sign up!
X-WR-RELCALID:3a9f511fcdf5201a9832780459034917
X-WR-TIMEZONE:America/New_York
BEGIN:VTIMEZONE
TZID:America/New_York
BEGIN:STANDARD
TZNAME:EST
DTSTART:20181104T020000
TZOFFSETFROM:-0400
TZOFFSETTO:-0500
RDATE:20191103T020000
END:STANDARD
BEGIN:DAYLIGHT
TZNAME:EDT
DTSTART:20190310T020000
TZOFFSETFROM:-0500
TZOFFSETTO:-0400
RDATE:20200308T020000
END:DAYLIGHT
END:VTIMEZONE
BEGIN:VEVENT
UID:4b84b6ff-60b6-4d8c-90d2-75aa23b98d53
DTSTAMP:20260422T231119Z
DESCRIPTION:Annually\, we distribute tens of thousands of trees.  Consider 
 helping inventory and package the delicate seedling trees\, put together w
 ildflower seed packets and assist community members when they pick up thei
 r trees.  Opportunities are inside and outside\, sitting and standing\, an
 d for a couple hours or for a whole day.  \n\nMorning  - 8:30 am - 12:00 p
 m - filling and distributing large orders for partnering counties\nAfterno
 on - 12:00 pm - 3:30 pm - inventorying and preparing for Friday pick-ups\n
 \nUse link below to sign up!
DTSTART;TZID=America/New_York:20190411T083000
DTEND;TZID=America/New_York:20190411T150000
LOCATION:Soil & Water barn\, 771 East Main Street\, Newark\, OH  43055
SUMMARY:Volunteer to Help with Tree Sale Prep
END:VEVENT
END:VCALENDAR
