BEGIN:VCALENDAR
VERSION:2.0
PRODID:-//lickingswcd.com//NONSGML kigkonsult.se iCalcreator 2.30.10//
CALSCALE:GREGORIAN
METHOD:PUBLISH
UID:bd6f2298-b4ff-4511-8298-de716b76a427
X-WR-CALDESC:Visit Soil & Water at this event!  \n\nThe day includes: \nFir
 earm safety with multiple Shotgun\, BB gun\, 22 Rifle\, and Muzzleloader s
 tations\nCalling Demonstrations: duck\, goose and turkey\nDog Demonstratio
 ns\nVeterinary/Pet Care station\nConservation\nHabitat\nTaxidermy\nFlint k
 napping\nLeather Crafts\nD.A.R.E. Program\nLitter and Recycling\nBoating S
 afety\nElectric Safety Demo\nGPS\nATV Safety\nLeopold Education\nArchery s
 tations\nTree Stand Safety\nDeer Processing\nFishing\nCasting and Fly-tyin
 g\nBirdhouse Construction\nDuck Decoy Painting\nImportant:\n\nAll children
  must be accompanied by a parent/guardian.\nCome early! Free T-shirt to fi
 rst 750 kids!!!\nSorry\, no pets!\nDo not bring firearms\, we supply all e
 quipment.\n
X-WR-RELCALID:961494e608fa7688568297c8826865c0
X-WR-TIMEZONE:America/New_York
BEGIN:VTIMEZONE
TZID:America/New_York
BEGIN:STANDARD
TZNAME:EST
DTSTART:20181104T020000
TZOFFSETFROM:-0400
TZOFFSETTO:-0500
RDATE:20191103T020000
END:STANDARD
BEGIN:DAYLIGHT
TZNAME:EDT
DTSTART:20190310T020000
TZOFFSETFROM:-0500
TZOFFSETTO:-0400
RDATE:20200308T020000
END:DAYLIGHT
END:VTIMEZONE
BEGIN:VEVENT
UID:5e1926c0-1696-44d3-afd1-f802157ec1c2
DTSTAMP:20260423T004948Z
DESCRIPTION:Visit Soil & Water at this event!  \n\nThe day includes: \nFire
 arm safety with multiple Shotgun\, BB gun\, 22 Rifle\, and Muzzleloader st
 ations\nCalling Demonstrations: duck\, goose and turkey\nDog Demonstration
 s\nVeterinary/Pet Care station\nConservation\nHabitat\nTaxidermy\nFlint kn
 apping\nLeather Crafts\nD.A.R.E. Program\nLitter and Recycling\nBoating Sa
 fety\nElectric Safety Demo\nGPS\nATV Safety\nLeopold Education\nArchery st
 ations\nTree Stand Safety\nDeer Processing\nFishing\nCasting and Fly-tying
 \nBirdhouse Construction\nDuck Decoy Painting\nImportant:\n\nAll children 
 must be accompanied by a parent/guardian.\nCome early! Free T-shirt to fir
 st 750 kids!!!\nSorry\, no pets!\nDo not bring firearms\, we supply all eq
 uipment.\n
DTSTART;TZID=America/New_York:20190413T093000
DTEND;TZID=America/New_York:20190413T150000
LOCATION:7357 Sportsman Club Rd NW\, Johnstown\, OH 43031\, USA
SUMMARY:Southeast Ohio Pheasants Forever Youth Event
END:VEVENT
END:VCALENDAR
