BEGIN:VCALENDAR
VERSION:2.0
PRODID:-//lickingswcd.com//NONSGML kigkonsult.se iCalcreator 2.30.10//
CALSCALE:GREGORIAN
METHOD:PUBLISH
UID:fb7a78ce-3011-4076-9076-e52d6df2ab09
X-WR-CALDESC:Annually\, we distribute tens of thousands of trees.  Consider
  helping inventory and package the delicate seedling trees\, put together 
 wildflower seed packets and assist community members when they pick up the
 ir trees.  Opportunities are inside and outside\, sitting and standing\, a
 nd for a couple hours or for a whole day.  \n\nMorning - 8:30 - 12:00 pm -
  assisting teachers picking up seedling trees for their students\, and doi
 ng a final inventory of remaining trees.\nAfternoon -12:00 pm - 3:30 pm - 
 assisting teachers picking up seedling trees for their students\, and doin
 g a final inventory of remaining trees.\n\nSign up to volunteer below.
X-WR-RELCALID:7a477fda99cdca74277012efa35be675
X-WR-TIMEZONE:America/New_York
BEGIN:VTIMEZONE
TZID:America/New_York
BEGIN:STANDARD
TZNAME:EST
DTSTART:20181104T020000
TZOFFSETFROM:-0400
TZOFFSETTO:-0500
RDATE:20191103T020000
END:STANDARD
BEGIN:DAYLIGHT
TZNAME:EDT
DTSTART:20190310T020000
TZOFFSETFROM:-0500
TZOFFSETTO:-0400
RDATE:20200308T020000
END:DAYLIGHT
END:VTIMEZONE
BEGIN:VEVENT
UID:80bd7201-356c-4db4-9c19-abf47dd4a9cc
DTSTAMP:20260422T231119Z
DESCRIPTION:Annually\, we distribute tens of thousands of trees.  Consider 
 helping inventory and package the delicate seedling trees\, put together w
 ildflower seed packets and assist community members when they pick up thei
 r trees.  Opportunities are inside and outside\, sitting and standing\, an
 d for a couple hours or for a whole day.  \n\nMorning - 8:30 - 12:00 pm - 
 assisting teachers picking up seedling trees for their students\, and doin
 g a final inventory of remaining trees.\nAfternoon -12:00 pm - 3:30 pm - a
 ssisting teachers picking up seedling trees for their students\, and doing
  a final inventory of remaining trees.\n\nSign up to volunteer below.
DTSTART;TZID=America/New_York:20190415T083000
DTEND;TZID=America/New_York:20190415T153000
LOCATION:Soil & Water barn\, 771 East Main Street\, Newark\, OH  43055
SUMMARY:Volunteer to Help with Tree Sale Prep
END:VEVENT
END:VCALENDAR
