BEGIN:VCALENDAR
VERSION:2.0
PRODID:-//lickingswcd.com//NONSGML kigkonsult.se iCalcreator 2.30.10//
CALSCALE:GREGORIAN
METHOD:PUBLISH
UID:447381ac-653a-47d3-94ac-c3b264b32721
X-WR-CALDESC:Muskingum\, Perry\, and Licking County High School and Middle 
 School students practice Envirothon competition.  \nInterested in voluntee
 ring for registration\, being a station monitor or helping set up?  Contac
 t us below!
X-WR-RELCALID:02c89eaf39097071421a2da0f36d4dbd
X-WR-TIMEZONE:America/New_York
BEGIN:VTIMEZONE
TZID:America/New_York
BEGIN:STANDARD
TZNAME:EST
DTSTART:20181104T020000
TZOFFSETFROM:-0400
TZOFFSETTO:-0500
RDATE:20191103T020000
END:STANDARD
BEGIN:DAYLIGHT
TZNAME:EDT
DTSTART:20190310T020000
TZOFFSETFROM:-0500
TZOFFSETTO:-0400
RDATE:20200308T020000
END:DAYLIGHT
END:VTIMEZONE
BEGIN:VEVENT
UID:63ac3c6e-74b2-41b1-8a73-1b13334339a6
DTSTAMP:20260423T004710Z
DESCRIPTION:Muskingum\, Perry\, and Licking County High School and Middle S
 chool students practice Envirothon competition.  \nInterested in volunteer
 ing for registration\, being a station monitor or helping set up?  Contact
  us below!
DTSTART;TZID=America/New_York:20190416T083000
DTEND;TZID=America/New_York:20190416T120000
LOCATION:Riverview Preserve - Licking Park District 375 Ohio St\, Newark\, 
 OH 43055\, USA
SUMMARY:Tri County Envirothon hosted by Licking Soil & Water
END:VEVENT
END:VCALENDAR
