BEGIN:VCALENDAR
VERSION:2.0
PRODID:-//lickingswcd.com//NONSGML kigkonsult.se iCalcreator 2.30.10//
CALSCALE:GREGORIAN
METHOD:PUBLISH
UID:30e4cb9e-3310-4f42-8889-970b19e7f6f6
X-WR-CALDESC:This year at the Ohio Department of Natural Resources\, Divisi
 on of Forestry\, our Urban Forestry program is celebrating our 40th Annive
 rsary in 2019!   Even though Ohio’s Urban Forestry Assistance Program had 
 been assisting municipalities and local governments since the early 1970’s
 \, we are recognizing 1979 as our official birth year.  The Ohio Division 
 of Forestry would like to take this opportunity to celebrate with you and 
 all that you do for your Urban Forestry programs by having a 40th Annivers
 ary Forum at the Ohio State Fairgrounds & Natural Resource Park in Columbu
 s!  The event will be held on Friday\, June 21st.  Please see attached inf
 ormation and mark your calendars!  This event will be in lieu of my Centra
 l Ohio Urban Forestry conference that is held in the fall each year.
X-WR-RELCALID:a19db0163ed53042359312b45d893fad
X-WR-TIMEZONE:America/New_York
BEGIN:VTIMEZONE
TZID:America/New_York
BEGIN:STANDARD
TZNAME:EST
DTSTART:20181104T020000
TZOFFSETFROM:-0400
TZOFFSETTO:-0500
RDATE:20191103T020000
END:STANDARD
BEGIN:DAYLIGHT
TZNAME:EDT
DTSTART:20190310T020000
TZOFFSETFROM:-0500
TZOFFSETTO:-0400
RDATE:20200308T020000
END:DAYLIGHT
END:VTIMEZONE
BEGIN:VEVENT
UID:08fd202a-e9bb-41b2-a06a-5ccc39a275b8
DTSTAMP:20260423T004553Z
DESCRIPTION:This year at the Ohio Department of Natural Resources\, Divisio
 n of Forestry\, our Urban Forestry program is celebrating our 40th Anniver
 sary in 2019!   Even though Ohio’s Urban Forestry Assistance Program had b
 een assisting municipalities and local governments since the early 1970’s\
 , we are recognizing 1979 as our official birth year.  The Ohio Division o
 f Forestry would like to take this opportunity to celebrate with you and a
 ll that you do for your Urban Forestry programs by having a 40th Anniversa
 ry Forum at the Ohio State Fairgrounds & Natural Resource Park in Columbus
 !  The event will be held on Friday\, June 21st.  Please see attached info
 rmation and mark your calendars!  This event will be in lieu of my Central
  Ohio Urban Forestry conference that is held in the fall each year.
DTSTART;TZID=America/New_York:20190418T090000
DTEND;TZID=America/New_York:20190418T153000
LOCATION:Ohio State Fairgrounds\, Natural Resources Park
SUMMARY:Ohio Urban Forestry Program's 40th Anniversary Forum
END:VEVENT
END:VCALENDAR
