BEGIN:VCALENDAR
VERSION:2.0
PRODID:-//lickingswcd.com//NONSGML kigkonsult.se iCalcreator 2.30.10//
CALSCALE:GREGORIAN
METHOD:PUBLISH
UID:5d6490aa-ffbe-4ed5-b6a7-955ac14ec380
X-WR-CALDESC:The ENVIROTHON is a high school competition designed to stimul
 ate\, reinforce and enhance interest in the environment and natural resour
 ces.  Students are tested on their knowledge of soils\, forestry\, wildlif
 e\, aquatic ecology and current environmental issues. In addition\, the En
 virothon encourages cooperative decision-making and team building. While e
 ach student on a team is challenged individually to contribute his or her 
 personal best\, the score that counts at the end of the competition is the
  team score. A team consists of five students\, all from the same high sch
 ool. An adult advisor (or advisors) must accompany the team but is not per
 mitted to assist the team during the competition.\n\nHigh School students 
 across the state compete on the local level at one of the five Area Enviro
 thons. The top four teams from each Area Envirothon then go on to compete 
 at the state competition held each year in June for the title of State Env
 irothon Champion. The winning team will then compete at the national compe
 tition\, the NCF Envirothon\, held annually in July in a different state i
 n North America.
X-WR-RELCALID:662a46d02be4254109b43b49edadede1
X-WR-TIMEZONE:America/New_York
BEGIN:VTIMEZONE
TZID:America/New_York
BEGIN:STANDARD
TZNAME:EST
DTSTART:20181104T020000
TZOFFSETFROM:-0400
TZOFFSETTO:-0500
RDATE:20191103T020000
END:STANDARD
BEGIN:DAYLIGHT
TZNAME:EDT
DTSTART:20190310T020000
TZOFFSETFROM:-0500
TZOFFSETTO:-0400
RDATE:20200308T020000
END:DAYLIGHT
END:VTIMEZONE
BEGIN:VEVENT
UID:1565a269-6d92-46c0-93e3-d3befe083409
DTSTAMP:20260423T004358Z
DESCRIPTION:The ENVIROTHON is a high school competition designed to stimula
 te\, reinforce and enhance interest in the environment and natural resourc
 es.  Students are tested on their knowledge of soils\, forestry\, wildlife
 \, aquatic ecology and current environmental issues. In addition\, the Env
 irothon encourages cooperative decision-making and team building. While ea
 ch student on a team is challenged individually to contribute his or her p
 ersonal best\, the score that counts at the end of the competition is the 
 team score. A team consists of five students\, all from the same high scho
 ol. An adult advisor (or advisors) must accompany the team but is not perm
 itted to assist the team during the competition.\n\nHigh School students a
 cross the state compete on the local level at one of the five Area Envirot
 hons. The top four teams from each Area Envirothon then go on to compete a
 t the state competition held each year in June for the title of State Envi
 rothon Champion. The winning team will then compete at the national compet
 ition\, the NCF Envirothon\, held annually in July in a different state in
  North America.
DTSTART;TZID=America/New_York:20190424T080000
DTEND;TZID=America/New_York:20190424T130000
LOCATION:The Broughton Nature and Wildlife Education Area
SUMMARY:Area 3 Envirothon
END:VEVENT
END:VCALENDAR
