BEGIN:VCALENDAR
VERSION:2.0
PRODID:-//lickingswcd.com//NONSGML kigkonsult.se iCalcreator 2.30.10//
CALSCALE:GREGORIAN
METHOD:PUBLISH
UID:1de62c7b-37c2-417f-b1fb-e2d68e0dc563
X-WR-CALDESC:Come out and visit Licking County Soil & Water's display!  \n
 \nH​igh s​chool students compete as an individual or part of a team!\nPart
 icipants will showcase innovative designs to protect an egg dropped\nfrom 
 a second story height of 22 feet at the 7th annual Egg Drop competition.\n
 ​\nCommunity members are invited to view the morning egg drops beginning a
 t 9:30 a.m. in the John Gilbert Reese Center. An awards presentation cerem
 ony will begin at approximately 12:30 p.m. in the Adena Hall Recreation Ce
 nter. ​​
X-WR-RELCALID:c3a13f5cf5ef70304eb7f93b2241f70c
X-WR-TIMEZONE:America/New_York
BEGIN:VTIMEZONE
TZID:America/New_York
BEGIN:STANDARD
TZNAME:EST
DTSTART:20181104T020000
TZOFFSETFROM:-0400
TZOFFSETTO:-0500
RDATE:20191103T020000
END:STANDARD
BEGIN:DAYLIGHT
TZNAME:EDT
DTSTART:20190310T020000
TZOFFSETFROM:-0500
TZOFFSETTO:-0400
RDATE:20200308T020000
END:DAYLIGHT
END:VTIMEZONE
BEGIN:VEVENT
UID:8c9f7fb7-b9ff-43d6-b6ac-fec6a5d64a63
DTSTAMP:20260422T230724Z
DESCRIPTION:Come out and visit Licking County Soil & Water's display!  \n\n
 H​igh s​chool students compete as an individual or part of a team!\nPartic
 ipants will showcase innovative designs to protect an egg dropped\nfrom a 
 second story height of 22 feet at the 7th annual Egg Drop competition.\n​
 \nCommunity members are invited to view the morning egg drops beginning at
  9:30 a.m. in the John Gilbert Reese Center. An awards presentation ceremo
 ny will begin at approximately 12:30 p.m. in the Adena Hall Recreation Cen
 ter. ​​
DTSTART;TZID=America/New_York:20190426T090000
DTEND;TZID=America/New_York:20190426T130000
LOCATION:Ballroom\, Reese Center\, COTC
SUMMARY:COTC Egg Drop STEM Competition
END:VEVENT
END:VCALENDAR
