BEGIN:VCALENDAR
VERSION:2.0
PRODID:-//lickingswcd.com//NONSGML kigkonsult.se iCalcreator 2.30.10//
CALSCALE:GREGORIAN
METHOD:PUBLISH
UID:318b2c3d-4b54-4413-aea2-08b1f29b53de
X-WR-CALDESC:Visit Soil and Water at this event!  \n\nJoin us for a day of 
 family fun\, including presentations featuring animals from the Columbus Z
 oo & Aquarium\, tree climbing\, children’s activities and more!\n\nDiscoun
 ted admission for the Arbor Day Festival courtesy of our Presenting Sponso
 r\, Park National Bank. Special thanks to Arbor Day Festival Children’s pr
 ogram sponsor\, Bartlett Tree Experts.\n\nFree for Arboretum Members | $5 
 per car for Non-members
X-WR-RELCALID:6198d49300ff09e6fb9741d4bf2b6d01
X-WR-TIMEZONE:America/New_York
BEGIN:VTIMEZONE
TZID:America/New_York
BEGIN:STANDARD
TZNAME:EST
DTSTART:20181104T020000
TZOFFSETFROM:-0400
TZOFFSETTO:-0500
RDATE:20191103T020000
END:STANDARD
BEGIN:DAYLIGHT
TZNAME:EDT
DTSTART:20190310T020000
TZOFFSETFROM:-0500
TZOFFSETTO:-0400
RDATE:20200308T020000
END:DAYLIGHT
END:VTIMEZONE
BEGIN:VEVENT
UID:ecbe96bf-88c9-4f1f-a638-ced444e0c886
DTSTAMP:20260422T230929Z
DESCRIPTION:Visit Soil and Water at this event!  \n\nJoin us for a day of f
 amily fun\, including presentations featuring animals from the Columbus Zo
 o & Aquarium\, tree climbing\, children’s activities and more!\n\nDiscount
 ed admission for the Arbor Day Festival courtesy of our Presenting Sponsor
 \, Park National Bank. Special thanks to Arbor Day Festival Children’s pro
 gram sponsor\, Bartlett Tree Experts.\n\nFree for Arboretum Members | $5 p
 er car for Non-members
DTSTART;TZID=America/New_York:20190427T090000
DTEND;TZID=America/New_York:20190427T100000
LOCATION:Dawes\, 7770 Jacksontown Rd.\, SE Newark\, OH 43056
SUMMARY:Arbor Day Celebration at Dawes
END:VEVENT
END:VCALENDAR
