BEGIN:VCALENDAR
VERSION:2.0
PRODID:-//lickingswcd.com//NONSGML kigkonsult.se iCalcreator 2.30.10//
CALSCALE:GREGORIAN
METHOD:PUBLISH
UID:4edf1fd1-5a08-408d-bea2-bd64d938a788
X-WR-CALDESC:Spring is here! It’s nice outside. Gather your family\, grab y
 our friends\, and start “Turn Your Screen Off” Week with the Licking Park 
 District. For the 5th year\, Licking Park District and several partnering 
 organizations will join millions of others\, across the nation\, to encour
 age turning off TVs\, phones\, tablets\, and gaming consoles for seven day
 s. LPD invites everyone to tune into the world around us and join the Outd
 oor Adventures kick off celebration on Sunday\, April 29th\, from noon–4 p
 m\, at Infirmary Mound Park\, Rt. 37\, south of Granville.
X-WR-RELCALID:73d41bf7da4af6cf77fabdd6acebf122
X-WR-TIMEZONE:America/New_York
BEGIN:VTIMEZONE
TZID:America/New_York
BEGIN:STANDARD
TZNAME:EST
DTSTART:20181104T020000
TZOFFSETFROM:-0400
TZOFFSETTO:-0500
RDATE:20191103T020000
END:STANDARD
BEGIN:DAYLIGHT
TZNAME:EDT
DTSTART:20190310T020000
TZOFFSETFROM:-0500
TZOFFSETTO:-0400
RDATE:20200308T020000
END:DAYLIGHT
END:VTIMEZONE
BEGIN:VEVENT
UID:cd3904dd-fc67-4c00-8e75-4289c55e5f91
DTSTAMP:20260422T232832Z
DESCRIPTION:Spring is here! It’s nice outside. Gather your family\, grab yo
 ur friends\, and start “Turn Your Screen Off” Week with the Licking Park D
 istrict. For the 5th year\, Licking Park District and several partnering o
 rganizations will join millions of others\, across the nation\, to encoura
 ge turning off TVs\, phones\, tablets\, and gaming consoles for seven days
 . LPD invites everyone to tune into the world around us and join the Outdo
 or Adventures kick off celebration on Sunday\, April 29th\, from noon–4 pm
 \, at Infirmary Mound Park\, Rt. 37\, south of Granville.
DTSTART;TZID=America/New_York:20190428T120000
DTEND;TZID=America/New_York:20190428T160000
LOCATION:Infirmary Mound Park\, Rt. 37\, south of Granville.
SUMMARY:Licking Park District’s 5th Annual Outdoor Adventures Kicks Off “Tu
 rn Your Screen Off” Week
END:VEVENT
END:VCALENDAR
