BEGIN:VCALENDAR
VERSION:2.0
PRODID:-//lickingswcd.com//NONSGML kigkonsult.se iCalcreator 2.30.10//
CALSCALE:GREGORIAN
METHOD:PUBLISH
UID:9dd8d516-935b-4212-a413-761764f70552
X-WR-CALDESC:HOME is a community Earth Day celebration\, bringing together 
 anyone interested in\nsustainability\, conservation and the wonders of the
  natural world. Visitors can expect children’s\nactivities\, information a
 bout local environmental initiatives\, service projects\, a sunset hike\,
 \nvendors\, music\, food and tours of the Denison Homestead\, an eco-minde
 d intentional\ncommunity unique among American universities.\n
X-WR-RELCALID:e71b53810be3844d6b20e8846f5c8241
X-WR-TIMEZONE:America/New_York
BEGIN:VTIMEZONE
TZID:America/New_York
BEGIN:STANDARD
TZNAME:EST
DTSTART:20181104T020000
TZOFFSETFROM:-0400
TZOFFSETTO:-0500
RDATE:20191103T020000
END:STANDARD
BEGIN:DAYLIGHT
TZNAME:EDT
DTSTART:20190310T020000
TZOFFSETFROM:-0500
TZOFFSETTO:-0400
RDATE:20200308T020000
END:DAYLIGHT
END:VTIMEZONE
BEGIN:VEVENT
UID:40460bef-d3b9-4bb4-9244-d8a23550195e
DTSTAMP:20260422T230914Z
DESCRIPTION:HOME is a community Earth Day celebration\, bringing together a
 nyone interested in\nsustainability\, conservation and the wonders of the 
 natural world. Visitors can expect children’s\nactivities\, information ab
 out local environmental initiatives\, service projects\, a sunset hike\,\n
 vendors\, music\, food and tours of the Denison Homestead\, an eco-minded 
 intentional\ncommunity unique among American universities.\n
DTSTART;TZID=America/New_York:20190428T160000
DTEND;TZID=America/New_York:20190428T190000
LOCATION:The Denison Homestead\, 1385 North Street\, Granville\, OH
SUMMARY:HOME Earth Day Event at Denison
END:VEVENT
END:VCALENDAR
