BEGIN:VCALENDAR
VERSION:2.0
PRODID:-//lickingswcd.com//NONSGML kigkonsult.se iCalcreator 2.30.10//
CALSCALE:GREGORIAN
METHOD:PUBLISH
UID:8a2ef2ef-7075-4c62-853e-cec228b455a3
X-WR-CALDESC:Why plant rain gardens? The news has recently been saturated (
 pun intended) with water-related headlines about elevated nitrate levels a
 nd localized flooding from heavy rainfall and stormwater runoff.  Toxic al
 gae continues to be a problem at Buckeye Lake and around Ohio.  Rain garde
 ns allow rain water to slowly soak into the ground and reduce the amount o
 f polluted stormwater flowing into nearby streams.   \n\nWhat is a rain ba
 rrel? Rain barrels collect and store rain water from rooftops\, thereby re
 ducing runoff and flooding during storms. Use rain barrel water to irrigat
 e landscaping and gardens while saving money on water bills..  \n\nAt the 
 workshop\, view a well-established rain garden\; then learn how to design 
 and install a rain garden on your property.  Next\, build your own rain ba
 rrel so you can start harvesting rain water from your roof.\n\nEach Rain B
 arrel is $50.  You can pay online with the registration system.  If you ch
 oose to pay onsite\, we can only accept cash or check.
X-WR-RELCALID:f64384aa7e0f056b94b2107b25258806
X-WR-TIMEZONE:America/New_York
BEGIN:VTIMEZONE
TZID:America/New_York
BEGIN:STANDARD
TZNAME:EST
DTSTART:20181104T020000
TZOFFSETFROM:-0400
TZOFFSETTO:-0500
RDATE:20191103T020000
RDATE:20201101T020000
END:STANDARD
BEGIN:DAYLIGHT
TZNAME:EDT
DTSTART:20190310T020000
TZOFFSETFROM:-0500
TZOFFSETTO:-0400
RDATE:20200308T020000
END:DAYLIGHT
END:VTIMEZONE
BEGIN:VEVENT
UID:229bfd5a-1459-47e3-b5c9-151d9a38a7b7
DTSTAMP:20260423T010518Z
DESCRIPTION:Why plant rain gardens? The news has recently been saturated (p
 un intended) with water-related headlines about elevated nitrate levels an
 d localized flooding from heavy rainfall and stormwater runoff.  Toxic alg
 ae continues to be a problem at Buckeye Lake and around Ohio.  Rain garden
 s allow rain water to slowly soak into the ground and reduce the amount of
  polluted stormwater flowing into nearby streams.   \n\nWhat is a rain bar
 rel? Rain barrels collect and store rain water from rooftops\, thereby red
 ucing runoff and flooding during storms. Use rain barrel water to irrigate
  landscaping and gardens while saving money on water bills..  \n\nAt the w
 orkshop\, view a well-established rain garden\; then learn how to design a
 nd install a rain garden on your property.  Next\, build your own rain bar
 rel so you can start harvesting rain water from your roof.\n\nEach Rain Ba
 rrel is $50.  You can pay online with the registration system.  If you cho
 ose to pay onsite\, we can only accept cash or check.
DTSTART;TZID=America/New_York:20190518T110000
DTEND;TZID=America/New_York:20190518T130000
LOCATION:The Thomas J. Evans Foundation Park\, 10255 McIntosh Rd\, Pataskal
 a\, OH 43062\, USA
SUMMARY:DIY Rain Barrels and Rain Gardens
END:VEVENT
END:VCALENDAR
