BEGIN:VCALENDAR
VERSION:2.0
PRODID:-//lickingswcd.com//NONSGML kigkonsult.se iCalcreator 2.30.10//
CALSCALE:GREGORIAN
METHOD:PUBLISH
UID:9e8bf140-0964-4b4a-b93c-13898ec7f7e0
X-WR-CALDESC:Explore the World of Water with Licking County Soil & Water Co
 nservation District and the Pataskala Parks
X-WR-RELCALID:b151bf190c440da214a5a2939b4be6d0
X-WR-TIMEZONE:America/New_York
BEGIN:VTIMEZONE
TZID:America/New_York
BEGIN:STANDARD
TZNAME:EST
DTSTART:20181104T020000
TZOFFSETFROM:-0400
TZOFFSETTO:-0500
RDATE:20191103T020000
RDATE:20201101T020000
END:STANDARD
BEGIN:DAYLIGHT
TZNAME:EDT
DTSTART:20190310T020000
TZOFFSETFROM:-0500
TZOFFSETTO:-0400
RDATE:20200308T020000
END:DAYLIGHT
END:VTIMEZONE
BEGIN:VEVENT
UID:33a589cf-b4fe-4357-b779-e40fc2269c18
DTSTAMP:20260423T021439Z
DESCRIPTION:Explore the World of Water with Licking County Soil & Water Con
 servation District and the Pataskala Parks
DTSTART;TZID=America/New_York:20190604T150000
DTEND;TZID=America/New_York:20190604T170000
LOCATION:TJ Evans Foundation Park
SUMMARY:Water Wonders
END:VEVENT
END:VCALENDAR
