BEGIN:VCALENDAR
VERSION:2.0
PRODID:-//lickingswcd.com//NONSGML kigkonsult.se iCalcreator 2.30.10//
CALSCALE:GREGORIAN
METHOD:PUBLISH
UID:58a4db1c-4d34-4ed3-98ea-ba73fd73a21c
X-WR-CALDESC:Do you know how your water reaches the faucet? Or where water 
 travels after you flush your toilet? How does stormwater affect your water
 shed? What can citizens\, educators\, and landowners do to help? Find thes
 e answers while exploring water facilities in Newark. \n\nAll workshops st
 art at 8:30 am and end by 4 pm. Graduate and Step Up to Quality credits av
 ailable.\nSpace is limited\; pre-registration is required for all workshop
 s. Cost: $5/workshop. Workshops are facilitated by Licking County Soil & W
 ater Conservation District\, Licking Park District\, and The Dawes Arboret
 um.
X-WR-RELCALID:560b2181c1782d4943936ce75ee102f6
X-WR-TIMEZONE:America/New_York
BEGIN:VTIMEZONE
TZID:America/New_York
BEGIN:STANDARD
TZNAME:EST
DTSTART:20181104T020000
TZOFFSETFROM:-0400
TZOFFSETTO:-0500
RDATE:20191103T020000
RDATE:20201101T020000
END:STANDARD
BEGIN:DAYLIGHT
TZNAME:EDT
DTSTART:20190310T020000
TZOFFSETFROM:-0500
TZOFFSETTO:-0400
RDATE:20200308T020000
END:DAYLIGHT
END:VTIMEZONE
BEGIN:VEVENT
UID:93a0c0b6-7b97-4dbb-8ea4-52633acc63b8
DTSTAMP:20260423T021732Z
DESCRIPTION:Do you know how your water reaches the faucet? Or where water t
 ravels after you flush your toilet? How does stormwater affect your waters
 hed? What can citizens\, educators\, and landowners do to help? Find these
  answers while exploring water facilities in Newark. \n\nAll workshops sta
 rt at 8:30 am and end by 4 pm. Graduate and Step Up to Quality credits ava
 ilable.\nSpace is limited\; pre-registration is required for all workshops
 . Cost: $5/workshop. Workshops are facilitated by Licking County Soil & Wa
 ter Conservation District\, Licking Park District\, and The Dawes Arboretu
 m.
DTSTART;TZID=America/New_York:20190626T083000
DTEND;TZID=America/New_York:20190626T160000
LOCATION:Soil & Water Conference Room\, 771 East Main Street\, Newark\, OH 
  43055
SUMMARY:Educator Workshop Series:  Newark Water Infastructure Tour
END:VEVENT
END:VCALENDAR
