BEGIN:VCALENDAR
VERSION:2.0
PRODID:-//lickingswcd.com//NONSGML kigkonsult.se iCalcreator 2.30.10//
CALSCALE:GREGORIAN
METHOD:PUBLISH
UID:e22a6333-7d70-4ac2-b21b-f64ccc5e5f93
X-WR-CALDESC:As Licking County Soil and Water Conservation District (SWCD) 
 strives to enhance and protect our natural resources\, especially water\, 
 we would like to take the first step in gaining community involvement and 
 ownership. As this goal is accomplished\, the community will gain a better
  understanding and respect for water\, water quality\, and why it is impor
 tant to become stewards of the land. Our community will also become more a
 ware that they live in a watershed and everyday activities by individuals 
 affects the water everyone uses.\n\nInterested in getting involved?  Join 
 the Stream Team!  Soil & Water provides all the supplies\; you adopt a str
 eam and share data with our office.  It’s that easy!
X-WR-RELCALID:36569e96a99e8e15e1f6cbec7bcd835f
X-WR-TIMEZONE:America/New_York
BEGIN:VTIMEZONE
TZID:America/New_York
BEGIN:STANDARD
TZNAME:EST
DTSTART:20181104T020000
TZOFFSETFROM:-0400
TZOFFSETTO:-0500
RDATE:20191103T020000
RDATE:20201101T020000
END:STANDARD
BEGIN:DAYLIGHT
TZNAME:EDT
DTSTART:20190310T020000
TZOFFSETFROM:-0500
TZOFFSETTO:-0400
RDATE:20200308T020000
END:DAYLIGHT
END:VTIMEZONE
BEGIN:VEVENT
UID:3a8ef3b4-5700-49a8-8cf7-8024199c4cab
DTSTAMP:20260423T021553Z
DESCRIPTION:As Licking County Soil and Water Conservation District (SWCD) s
 trives to enhance and protect our natural resources\, especially water\, w
 e would like to take the first step in gaining community involvement and o
 wnership. As this goal is accomplished\, the community will gain a better 
 understanding and respect for water\, water quality\, and why it is import
 ant to become stewards of the land. Our community will also become more aw
 are that they live in a watershed and everyday activities by individuals a
 ffects the water everyone uses.\n\nInterested in getting involved?  Join t
 he Stream Team!  Soil & Water provides all the supplies\; you adopt a stre
 am and share data with our office.  It’s that easy!
DTSTART;TZID=America/New_York:20190627T173000
DTEND;TZID=America/New_York:20190627T193000
LOCATION:Taft Reserve South 10383 Fairview Rd SE\, Newark\, OH 43055\, USA
SUMMARY:Stream Team with Licking Park District
END:VEVENT
END:VCALENDAR
