BEGIN:VCALENDAR
VERSION:2.0
PRODID:-//lickingswcd.com//NONSGML kigkonsult.se iCalcreator 2.30.10//
CALSCALE:GREGORIAN
METHOD:PUBLISH
UID:1f6b54c1-83f9-4493-a1e9-3e5c1baf2ec5
X-WR-CALDESC:New this year! We will offer ways to experience project-based 
 learning that is accessible in any setting\, outdoors\, or classroom. This
  fun and interactive workshop covers a variety of topics like ant investig
 ations\, micro hike with macro lenses\, and nature journals. We will use t
 he scientific method\, critical thinking\, technology\, and our senses to 
 connect ways to bring the classroom into nature. Citizen Science enables a
 ll of us to collectively manage the health and well being of ourselves and
  our planet.\n\nAll workshops start at 8:30 am and end by 4 pm. Graduate a
 nd Step Up to Quality credits available. \nSpace is limited\; pre-registra
 tion is required for all workshops. Cost: $5/workshop. Workshops are facil
 itated by Licking County Soil & Water Conservation District\, Licking Park
  District\, and The Dawes Arboretum.  \n
X-WR-RELCALID:2415b2da5ca85af86c038325e53e4fb0
X-WR-TIMEZONE:America/New_York
BEGIN:VTIMEZONE
TZID:America/New_York
BEGIN:STANDARD
TZNAME:EST
DTSTART:20181104T020000
TZOFFSETFROM:-0400
TZOFFSETTO:-0500
RDATE:20191103T020000
RDATE:20201101T020000
END:STANDARD
BEGIN:DAYLIGHT
TZNAME:EDT
DTSTART:20190310T020000
TZOFFSETFROM:-0500
TZOFFSETTO:-0400
RDATE:20200308T020000
END:DAYLIGHT
END:VTIMEZONE
BEGIN:VEVENT
UID:c39bb68e-df67-41ab-a7a5-5e0ba86eb40e
DTSTAMP:20260423T035432Z
DESCRIPTION:New this year! We will offer ways to experience project-based l
 earning that is accessible in any setting\, outdoors\, or classroom. This 
 fun and interactive workshop covers a variety of topics like ant investiga
 tions\, micro hike with macro lenses\, and nature journals. We will use th
 e scientific method\, critical thinking\, technology\, and our senses to c
 onnect ways to bring the classroom into nature. Citizen Science enables al
 l of us to collectively manage the health and well being of ourselves and 
 our planet.\n\nAll workshops start at 8:30 am and end by 4 pm. Graduate an
 d Step Up to Quality credits available. \nSpace is limited\; pre-registrat
 ion is required for all workshops. Cost: $5/workshop. Workshops are facili
 tated by Licking County Soil & Water Conservation District\, Licking Park 
 District\, and The Dawes Arboretum.  \n
DTSTART;TZID=America/New_York:20190710T083000
DTEND;TZID=America/New_York:20190710T160000
LOCATION:Infirmary Mound Park\, 4351 Lancaster Road\, Granville\, Ohio
SUMMARY:Citizen Science
END:VEVENT
END:VCALENDAR
