BEGIN:VCALENDAR
VERSION:2.0
PRODID:-//lickingswcd.com//NONSGML kigkonsult.se iCalcreator 2.30.10//
CALSCALE:GREGORIAN
METHOD:PUBLISH
UID:1f3bf3bb-9f2a-45d3-9839-81cc04b56f16
X-WR-CALDESC:Project WILD is concerned with providing information as well a
 s helping students evaluate choices and make responsible decisions about w
 ildlife and the environment. All curriculum materials are backed by sound 
 educational practices and theory\, and represent the work of many within t
 he fields of education and natural resource management from across the cou
 ntry. Participants receive Project WILD K-12 Curriculum and Activity Guide
  and WILD Aquatic K-12 Curriculum and Activity Guide\, which focuses on aq
 uatic wildlife and ecosystems. Eligible for WILD School Site grants upon c
 ertification. \n\nAll workshops start at 8:30 am and end by 4 pm. Graduate
  and Step Up to Quality credits available. \nSpace is limited\; pre-regist
 ration is required for all workshops. Cost: $5/workshop. Workshops are fac
 ilitated by Licking County Soil & Water Conservation District\, Licking Pa
 rk District\, and The Dawes Arboretum.
X-WR-RELCALID:823d388eab68257b4b7b4df75d214d55
X-WR-TIMEZONE:America/New_York
BEGIN:VTIMEZONE
TZID:America/New_York
BEGIN:STANDARD
TZNAME:EST
DTSTART:20181104T020000
TZOFFSETFROM:-0400
TZOFFSETTO:-0500
RDATE:20191103T020000
RDATE:20201101T020000
END:STANDARD
BEGIN:DAYLIGHT
TZNAME:EDT
DTSTART:20190310T020000
TZOFFSETFROM:-0500
TZOFFSETTO:-0400
RDATE:20200308T020000
END:DAYLIGHT
END:VTIMEZONE
BEGIN:VEVENT
UID:b52f3bce-13bb-4af0-9b56-11766a9f2318
DTSTAMP:20260423T040854Z
DESCRIPTION:Project WILD is concerned with providing information as well as
  helping students evaluate choices and make responsible decisions about wi
 ldlife and the environment. All curriculum materials are backed by sound e
 ducational practices and theory\, and represent the work of many within th
 e fields of education and natural resource management from across the coun
 try. Participants receive Project WILD K-12 Curriculum and Activity Guide 
 and WILD Aquatic K-12 Curriculum and Activity Guide\, which focuses on aqu
 atic wildlife and ecosystems. Eligible for WILD School Site grants upon ce
 rtification. \n\nAll workshops start at 8:30 am and end by 4 pm. Graduate 
 and Step Up to Quality credits available. \nSpace is limited\; pre-registr
 ation is required for all workshops. Cost: $5/workshop. Workshops are faci
 litated by Licking County Soil & Water Conservation District\, Licking Par
 k District\, and The Dawes Arboretum.
DTSTART;TZID=America/New_York:20190724T083000
DTEND;TZID=America/New_York:20190724T160000
LOCATION:Infirmary Mound Park\, 4351 Lancaster Road\, Granville\, Ohio
SUMMARY:Educator Workshop Series:  Project WILD/Aquestic WILD
END:VEVENT
END:VCALENDAR
