BEGIN:VCALENDAR
VERSION:2.0
PRODID:-//lickingswcd.com//NONSGML kigkonsult.se iCalcreator 2.30.10//
CALSCALE:GREGORIAN
METHOD:PUBLISH
UID:7881a9c4-e6b6-4d67-93a2-fc588a81b9cb
X-WR-CALDESC:Healthy and happy in the great outdoors! The beautiful 4-acre 
 Natural Resources Area at the Hartford Fair is located behind the horse ar
 ena and goat barns. Free\, family-friendly programs and contests are offer
 ed throughout the week of the Hartford Fair.\n
X-WR-RELCALID:de9fef752c3726b193a50460928680fa
X-WR-TIMEZONE:America/New_York
BEGIN:VTIMEZONE
TZID:America/New_York
BEGIN:STANDARD
TZNAME:EST
DTSTART:20181104T020000
TZOFFSETFROM:-0400
TZOFFSETTO:-0500
RDATE:20191103T020000
RDATE:20201101T020000
END:STANDARD
BEGIN:DAYLIGHT
TZNAME:EDT
DTSTART:20190310T020000
TZOFFSETFROM:-0500
TZOFFSETTO:-0400
RDATE:20200308T020000
END:DAYLIGHT
END:VTIMEZONE
BEGIN:VEVENT
UID:63a1f6aa-ff0e-43cd-975f-31f7afe53d8a
DTSTAMP:20260423T051716Z
DESCRIPTION:Healthy and happy in the great outdoors! The beautiful 4-acre N
 atural Resources Area at the Hartford Fair is located behind the horse are
 na and goat barns. Free\, family-friendly programs and contests are offere
 d throughout the week of the Hartford Fair.\n
DTSTART;TZID=America/New_York:20190804T110000
DTEND;TZID=America/New_York:20190810T160000
LOCATION:Hartford Fairgrounds\, 14028 Fairgrounds Rd\, Hartford\, OH 43013
SUMMARY:Soil & Water at Hartford Fair Natural Resources Area
END:VEVENT
END:VCALENDAR
