BEGIN:VCALENDAR
VERSION:2.0
PRODID:-//lickingswcd.com//NONSGML kigkonsult.se iCalcreator 2.30.10//
CALSCALE:GREGORIAN
METHOD:PUBLISH
UID:267b08f4-ccff-4ea7-9dd2-03f08b6eb1d7
X-WR-CALDESC:Bring your best dish to the Hartford Fair for 3 judges and the
  audience to taste.   Awards are given in each category per competition: 
 \nBest Tasting and Best Use of Local Ingredients.\n\nPre-registration star
 ts 30 minutes prior to competition.   Prepare recipe at home or in the cam
 pground.\n\n 	Wild Game:  Recipe must include wild game or fish. \n 	Sweets 
 & Greens:  Sweets recipe must  include a sweet (such as fruit\, honey)\; G
 reens recipe must include a green (such as lettuces\, collards) \n\n 	All i
 tems must be legally harvested\, gathered\, or purchased.\n 	The HFNRA rese
 rves the right to use the recipes for publication and recognition.  \n 	All
  ages welcome.\n 	One recipe/person/category\; 3 categories are ‘Wild Game\
 ,’ ‘Sweets\,’ and ‘Greens’ \n 	HFNRA is not responsible for lost or broken 
 cookware and recipes.\n 	After judging\, all entries must be made available
  for tasting by the audience. \nQuestions? Call Licking Soil & Water at 74
 0-670-5330.
X-WR-RELCALID:61415458279d88c553d8858443c51401
X-WR-TIMEZONE:America/New_York
BEGIN:VTIMEZONE
TZID:America/New_York
BEGIN:STANDARD
TZNAME:EST
DTSTART:20181104T020000
TZOFFSETFROM:-0400
TZOFFSETTO:-0500
RDATE:20191103T020000
RDATE:20201101T020000
END:STANDARD
BEGIN:DAYLIGHT
TZNAME:EDT
DTSTART:20190310T020000
TZOFFSETFROM:-0500
TZOFFSETTO:-0400
RDATE:20200308T020000
END:DAYLIGHT
END:VTIMEZONE
BEGIN:VEVENT
UID:ae5d5715-a37e-41db-83e4-e7eacbbae9fe
DTSTAMP:20260423T054118Z
DESCRIPTION:Bring your best dish to the Hartford Fair for 3 judges and the 
 audience to taste.   Awards are given in each category per competition: \n
 Best Tasting and Best Use of Local Ingredients.\n\nPre-registration starts
  30 minutes prior to competition.   Prepare recipe at home or in the campg
 round.\n\n 	Wild Game:  Recipe must include wild game or fish. \n 	Sweets & 
 Greens:  Sweets recipe must  include a sweet (such as fruit\, honey)\; Gre
 ens recipe must include a green (such as lettuces\, collards) \n\n 	All ite
 ms must be legally harvested\, gathered\, or purchased.\n 	The HFNRA reserv
 es the right to use the recipes for publication and recognition.  \n 	All a
 ges welcome.\n 	One recipe/person/category\; 3 categories are ‘Wild Game\,’
  ‘Sweets\,’ and ‘Greens’ \n 	HFNRA is not responsible for lost or broken co
 okware and recipes.\n 	After judging\, all entries must be made available f
 or tasting by the audience. \nQuestions? Call Licking Soil & Water at 740-
 670-5330.
DTSTART;TZID=America/New_York:20190807T150000
DTEND;TZID=America/New_York:20190807T160000
LOCATION:Hartford Fairgrounds\, Natural Resources Area
SUMMARY:Sweets & Greens Cook-off and Wild Game Cook-off
END:VEVENT
END:VCALENDAR
