BEGIN:VCALENDAR
VERSION:2.0
PRODID:-//lickingswcd.com//NONSGML kigkonsult.se iCalcreator 2.30.10//
CALSCALE:GREGORIAN
METHOD:PUBLISH
UID:acf4ca12-a1aa-41e5-87a9-8e7ca9197127
X-WR-CALDESC:Why plant rain gardens? The news has recently been saturated (
 pun intended) with water-related headlines about elevated nitrate levels a
 nd localized flooding from heavy rainfall and stormwater runoff.  Toxic al
 gae continues to be a problem at Buckeye Lake and around Ohio.  Rain garde
 ns allow rain water to slowly soak into the ground and reduce the amount o
 f polluted stormwater flowing into nearby streams.   \n\nWhat is a rain ba
 rrel? Rain barrels collect and store rain water from rooftops\, thereby re
 ducing runoff and flooding during storms. Use rain barrel water to irrigat
 e landscaping and gardens while saving money on water bills..  \n\nAt the 
 workshop\, view a well-established rain garden\; then learn how to design 
 and install a rain garden on your property.  Next\, build your own rain ba
 rrel so you can start harvesting rain water from your roof.\n\nRegistratio
 n fee of $50 will be collected at workshop for the cost of the rain barrel
 .  We can only accept cash or check for payment on site.
X-WR-RELCALID:70b2ee4223a14ad3aeec3e6f0052f1ea
X-WR-TIMEZONE:America/New_York
BEGIN:VTIMEZONE
TZID:America/New_York
BEGIN:STANDARD
TZNAME:EST
DTSTART:20181104T020000
TZOFFSETFROM:-0400
TZOFFSETTO:-0500
RDATE:20191103T020000
RDATE:20201101T020000
END:STANDARD
BEGIN:DAYLIGHT
TZNAME:EDT
DTSTART:20190310T020000
TZOFFSETFROM:-0500
TZOFFSETTO:-0400
RDATE:20200308T020000
END:DAYLIGHT
END:VTIMEZONE
BEGIN:VEVENT
UID:637f2015-da81-4775-99f3-c8bbb8dd3c98
DTSTAMP:20260423T051218Z
DESCRIPTION:Why plant rain gardens? The news has recently been saturated (p
 un intended) with water-related headlines about elevated nitrate levels an
 d localized flooding from heavy rainfall and stormwater runoff.  Toxic alg
 ae continues to be a problem at Buckeye Lake and around Ohio.  Rain garden
 s allow rain water to slowly soak into the ground and reduce the amount of
  polluted stormwater flowing into nearby streams.   \n\nWhat is a rain bar
 rel? Rain barrels collect and store rain water from rooftops\, thereby red
 ucing runoff and flooding during storms. Use rain barrel water to irrigate
  landscaping and gardens while saving money on water bills..  \n\nAt the w
 orkshop\, view a well-established rain garden\; then learn how to design a
 nd install a rain garden on your property.  Next\, build your own rain bar
 rel so you can start harvesting rain water from your roof.\n\nRegistration
  fee of $50 will be collected at workshop for the cost of the rain barrel.
   We can only accept cash or check for payment on site.
DTSTART;TZID=America/New_York:20190813T180000
DTEND;TZID=America/New_York:20190813T200000
LOCATION:Infirmary Mound Park\, 4351 Lancaster Road\, Granville\, Ohio
SUMMARY:DIY Rain Barrel and Rain Gardens Workshop
END:VEVENT
END:VCALENDAR
