BEGIN:VCALENDAR
VERSION:2.0
PRODID:-//lickingswcd.com//NONSGML kigkonsult.se iCalcreator 2.30.10//
CALSCALE:GREGORIAN
METHOD:PUBLISH
UID:e54a4a73-cb5a-42d7-8739-278868df63df
X-WR-CALDESC:
X-WR-RELCALID:239993457b9e5fa2822899965292874e
X-WR-TIMEZONE:America/New_York
BEGIN:VTIMEZONE
TZID:America/New_York
BEGIN:STANDARD
TZNAME:EST
DTSTART:20181104T020000
TZOFFSETFROM:-0400
TZOFFSETTO:-0500
RDATE:20191103T020000
RDATE:20201101T020000
END:STANDARD
BEGIN:DAYLIGHT
TZNAME:EDT
DTSTART:20190310T020000
TZOFFSETFROM:-0500
TZOFFSETTO:-0400
RDATE:20200308T020000
END:DAYLIGHT
END:VTIMEZONE
BEGIN:VEVENT
UID:cd507a50-807d-4d48-95f0-d0d4dc4e4432
DTSTAMP:20260423T071017Z
DESCRIPTION:
DTSTART;TZID=America/New_York:20190902T080000
DTEND;TZID=America/New_York:20190902T163000
LOCATION:
SUMMARY:Labor Day- office closed
END:VEVENT
END:VCALENDAR
