BEGIN:VCALENDAR
VERSION:2.0
PRODID:-//lickingswcd.com//NONSGML kigkonsult.se iCalcreator 2.30.10//
CALSCALE:GREGORIAN
METHOD:PUBLISH
UID:e2f5c435-4c0f-45ae-9c8a-7479e68650a8
X-WR-CALDESC:The Licking County Soil and Water Conservation District will h
 old the monthly District Board Meeting.  \n\nThe public is welcome to atte
 nd monthly Board meetings and serve on committees.  Contact Soil & Water a
 t 740-670-5330 for additional information.  \n
X-WR-RELCALID:1f856857c1751b663dabc47754815e5f
X-WR-TIMEZONE:America/New_York
BEGIN:VTIMEZONE
TZID:America/New_York
BEGIN:STANDARD
TZNAME:EST
DTSTART:20181104T020000
TZOFFSETFROM:-0400
TZOFFSETTO:-0500
RDATE:20191103T020000
RDATE:20201101T020000
END:STANDARD
BEGIN:DAYLIGHT
TZNAME:EDT
DTSTART:20190310T020000
TZOFFSETFROM:-0500
TZOFFSETTO:-0400
RDATE:20200308T020000
RDATE:20210314T020000
END:DAYLIGHT
END:VTIMEZONE
BEGIN:VEVENT
UID:943aa36f-1ee2-476d-b64d-59c805c13dbe
DTSTAMP:20260423T071128Z
DESCRIPTION:The Licking County Soil and Water Conservation District will ho
 ld the monthly District Board Meeting.  \n\nThe public is welcome to atten
 d monthly Board meetings and serve on committees.  Contact Soil & Water at
  740-670-5330 for additional information.  \n
DTSTART;TZID=America/New_York:20190918T163000
DTEND;TZID=America/New_York:20190918T180000
LOCATION:Ag Services Center
SUMMARY:Soil & Water Monthly Board Meeting
END:VEVENT
END:VCALENDAR
