BEGIN:VCALENDAR
VERSION:2.0
PRODID:-//lickingswcd.com//NONSGML kigkonsult.se iCalcreator 2.30.10//
CALSCALE:GREGORIAN
METHOD:PUBLISH
UID:7170c4c7-8996-4c3e-85c2-2ff9fae726c5
X-WR-CALDESC:The Licking County Green Energy Ohio Tour will take place Sept
 ember 27th and 28th\, 2019 at various locations around the county.\n\nAll 
 locations are open for FREE\, self-guided tours at the date(s) and time(s)
  stated. A guided tour will take place Saturday\, September 28\, from 9AM 
 – 12:30PM. The guided tour group is to meet at St. Edwards Church at 785 N
 ewark Granville Rd. and will follow the program below:\n\nLook at EV and t
 alk to their owners\nInformal workshop: Ohio’s Future with Solar Electric 
 Green Energy\n“Green Energy in Ohio”: Jane Harf\, Director of Green Energy
  Ohio\n“How solar electric works in Ohio”: Jordan Katz\, Denison Professor
 \nnQuestions you must ask!”: Jordan Katz\, Denison Professor\nTour of repr
 esentative local homes:\nLechner Residence – Addressing all-electric home 
 needs\nKipp Residence – Unique panel placement to power home\nDrake Reside
 nce – Visit Village Roots Green Community\nLiang Residence – Solar electri
 c home using Tesla Powerwall
X-WR-RELCALID:2fa68262152a8a63679470d78738a856
X-WR-TIMEZONE:America/New_York
BEGIN:VTIMEZONE
TZID:America/New_York
BEGIN:STANDARD
TZNAME:EST
DTSTART:20181104T020000
TZOFFSETFROM:-0400
TZOFFSETTO:-0500
RDATE:20191103T020000
RDATE:20201101T020000
END:STANDARD
BEGIN:DAYLIGHT
TZNAME:EDT
DTSTART:20190310T020000
TZOFFSETFROM:-0500
TZOFFSETTO:-0400
RDATE:20200308T020000
RDATE:20210314T020000
END:DAYLIGHT
END:VTIMEZONE
BEGIN:VEVENT
UID:97d1e305-7082-486b-aaa9-2c51f8c48345
DTSTAMP:20260423T071610Z
DESCRIPTION:The Licking County Green Energy Ohio Tour will take place Septe
 mber 27th and 28th\, 2019 at various locations around the county.\n\nAll l
 ocations are open for FREE\, self-guided tours at the date(s) and time(s) 
 stated. A guided tour will take place Saturday\, September 28\, from 9AM –
  12:30PM. The guided tour group is to meet at St. Edwards Church at 785 Ne
 wark Granville Rd. and will follow the program below:\n\nLook at EV and ta
 lk to their owners\nInformal workshop: Ohio’s Future with Solar Electric G
 reen Energy\n“Green Energy in Ohio”: Jane Harf\, Director of Green Energy 
 Ohio\n“How solar electric works in Ohio”: Jordan Katz\, Denison Professor
 \nnQuestions you must ask!”: Jordan Katz\, Denison Professor\nTour of repr
 esentative local homes:\nLechner Residence – Addressing all-electric home 
 needs\nKipp Residence – Unique panel placement to power home\nDrake Reside
 nce – Visit Village Roots Green Community\nLiang Residence – Solar electri
 c home using Tesla Powerwall
DTSTART;TZID=America/New_York:20190927T120000
DTEND;TZID=America/New_York:20190928T130000
LOCATION:Various Locations on self driving tour
SUMMARY:Green Energy Ohio Annual Tour
END:VEVENT
END:VCALENDAR
