BEGIN:VCALENDAR
VERSION:2.0
PRODID:-//lickingswcd.com//NONSGML kigkonsult.se iCalcreator 2.30.10//
CALSCALE:GREGORIAN
METHOD:PUBLISH
UID:7dd2b318-1262-4a30-ac53-e62a8dfb42e8
X-WR-CALDESC:Visit Soil & Water at this fun\, family-oriented event!
X-WR-RELCALID:e6239c19e0c13dcf5cc221ba7a514a85
X-WR-TIMEZONE:America/New_York
BEGIN:VTIMEZONE
TZID:America/New_York
BEGIN:STANDARD
TZNAME:EST
DTSTART:20181104T020000
TZOFFSETFROM:-0400
TZOFFSETTO:-0500
RDATE:20191103T020000
RDATE:20201101T020000
END:STANDARD
BEGIN:DAYLIGHT
TZNAME:EDT
DTSTART:20190310T020000
TZOFFSETFROM:-0500
TZOFFSETTO:-0400
RDATE:20200308T020000
RDATE:20210314T020000
END:DAYLIGHT
END:VTIMEZONE
BEGIN:VEVENT
UID:ddfa3936-c26d-4659-bff0-2fd4dd80953e
DTSTAMP:20260423T071232Z
DESCRIPTION:Visit Soil & Water at this fun\, family-oriented event!
DTSTART;TZID=America/New_York:20190927T170000
DTEND;TZID=America/New_York:20190927T200000
LOCATION:Downtown Newark on the Square
SUMMARY:Taste of Harvest Final Friday
END:VEVENT
END:VCALENDAR
