BEGIN:VCALENDAR
VERSION:2.0
PRODID:-//lickingswcd.com//NONSGML kigkonsult.se iCalcreator 2.30.10//
CALSCALE:GREGORIAN
METHOD:PUBLISH
UID:12c8a7c9-7c1e-48ad-9b25-50d2ade1b154
X-WR-CALDESC:
X-WR-RELCALID:14736aec7823bbbb5d0d3b2c2e2f51c6
X-WR-TIMEZONE:America/New_York
BEGIN:VTIMEZONE
TZID:America/New_York
BEGIN:STANDARD
TZNAME:EST
DTSTART:20181104T020000
TZOFFSETFROM:-0400
TZOFFSETTO:-0500
RDATE:20191103T020000
RDATE:20201101T020000
END:STANDARD
BEGIN:DAYLIGHT
TZNAME:EDT
DTSTART:20190310T020000
TZOFFSETFROM:-0500
TZOFFSETTO:-0400
RDATE:20200308T020000
RDATE:20210314T020000
END:DAYLIGHT
END:VTIMEZONE
BEGIN:VEVENT
UID:4a8c1800-2911-4206-a074-9c5cad29e3a9
DTSTAMP:20260423T091204Z
DESCRIPTION:
DTSTART;TZID=America/New_York:20191014T080000
DTEND;TZID=America/New_York:20191014T163000
LOCATION:
SUMMARY:Columbus Day - office closed
END:VEVENT
END:VCALENDAR
