BEGIN:VCALENDAR
VERSION:2.0
PRODID:-//lickingswcd.com//NONSGML kigkonsult.se iCalcreator 2.30.10//
CALSCALE:GREGORIAN
METHOD:PUBLISH
UID:214c0bdd-98d8-43fc-ae2f-cde9648d2666
X-WR-CALDESC:Thank you for your interest in attending the event.  Registrat
 ion is closed for this year.  \nVolunteer and Sponsor Appreciation Recepti
 on\n5:30 - 6:30 pm\nNo charge to attend!  Registration requested.\nEnjoy c
 omplimentary appetizers and a cash bar while we celebrate the wonderful vo
 lunteers who helped us in 2019.   Thank you gifts for all those who spent 
 time volunteering throughout the year.  \n\nDinner and Awards Celebration
 \n6:30 – 8:00 pm\nRegistration required.  Awards presented for Cooperator\
 , Volunteer\, and Educator of the Year.  Celebrate the partnerships and su
 ccesses in our 75th year of conserving our natural resources.   \nBuffet d
 inner included with registration.  Cash bar with local selections will be 
 open.\n\n\n\n\n
X-WR-RELCALID:128b2a1f27cdb37db235f6469ee75c82
X-WR-TIMEZONE:America/New_York
BEGIN:VTIMEZONE
TZID:America/New_York
BEGIN:STANDARD
TZNAME:EST
DTSTART:20191103T020000
TZOFFSETFROM:-0400
TZOFFSETTO:-0500
RDATE:20201101T020000
END:STANDARD
BEGIN:DAYLIGHT
TZNAME:EDT
DTSTART:20190310T020000
TZOFFSETFROM:-0500
TZOFFSETTO:-0400
RDATE:20200308T020000
RDATE:20210314T020000
END:DAYLIGHT
END:VTIMEZONE
BEGIN:VEVENT
UID:2741c0da-d742-4612-99b9-8918971da421
DTSTAMP:20260423T105310Z
DESCRIPTION:Thank you for your interest in attending the event.  Registrati
 on is closed for this year.  \nVolunteer and Sponsor Appreciation Receptio
 n\n5:30 - 6:30 pm\nNo charge to attend!  Registration requested.\nEnjoy co
 mplimentary appetizers and a cash bar while we celebrate the wonderful vol
 unteers who helped us in 2019.   Thank you gifts for all those who spent t
 ime volunteering throughout the year.  \n\nDinner and Awards Celebration\n
 6:30 – 8:00 pm\nRegistration required.  Awards presented for Cooperator\, 
 Volunteer\, and Educator of the Year.  Celebrate the partnerships and succ
 esses in our 75th year of conserving our natural resources.   \nBuffet din
 ner included with registration.  Cash bar with local selections will be op
 en.\n\n\n\n\n
DTSTART;TZID=America/New_York:20191106T183000
DTEND;TZID=America/New_York:20191106T213000
LOCATION:The Grove by the River\, 840 Hollander Street\, Newark\, Ohio 4305
 5
SUMMARY:75th Community Conservation Celebration Banquet ~ REGISTRATION CLOS
 ED
END:VEVENT
END:VCALENDAR
