BEGIN:VCALENDAR
VERSION:2.0
PRODID:-//lickingswcd.com//NONSGML kigkonsult.se iCalcreator 2.30.10//
CALSCALE:GREGORIAN
METHOD:PUBLISH
UID:4641c3ff-0e67-44c7-93e2-22fa85439456
X-WR-CALDESC:We are celebrating you – our wonderful volunteers and generous
  sponsors!    \n\nWith your time and support\, Soil & Water gave hundreds 
 of seedling trees to students\, helped clean thousands of pounds of trash 
 from the streams and rivers\, trained volunteers to monitor our waterways 
 as well as educated the public at the Hartford Fair\, festivals and commun
 ity events.   \n\nEnjoy complimentary appetizers and cash bar.  Thank you 
 gifts for all those who spent time volunteering throughout the year.  \n
X-WR-RELCALID:a5587d6be8984cdcd9b5d459e84b35cf
X-WR-TIMEZONE:America/New_York
BEGIN:VTIMEZONE
TZID:America/New_York
BEGIN:STANDARD
TZNAME:EST
DTSTART:20191103T020000
TZOFFSETFROM:-0400
TZOFFSETTO:-0500
RDATE:20201101T020000
END:STANDARD
BEGIN:DAYLIGHT
TZNAME:EDT
DTSTART:20190310T020000
TZOFFSETFROM:-0500
TZOFFSETTO:-0400
RDATE:20200308T020000
RDATE:20210314T020000
END:DAYLIGHT
END:VTIMEZONE
BEGIN:VEVENT
UID:193a24cd-6ee4-4e7c-9af6-025694a493d5
DTSTAMP:20260423T104929Z
DESCRIPTION:We are celebrating you – our wonderful volunteers and generous 
 sponsors!    \n\nWith your time and support\, Soil & Water gave hundreds o
 f seedling trees to students\, helped clean thousands of pounds of trash f
 rom the streams and rivers\, trained volunteers to monitor our waterways a
 s well as educated the public at the Hartford Fair\, festivals and communi
 ty events.   \n\nEnjoy complimentary appetizers and cash bar.  Thank you g
 ifts for all those who spent time volunteering throughout the year.  \n
DTSTART;TZID=America/New_York:20191106T173000
DTEND;TZID=America/New_York:20191106T183000
LOCATION:The Grove by the River\, 840 Hollander Street\, Newark\, Ohio 4305
 5
SUMMARY:Volunteer & Sponsor Appreciation Reception
END:VEVENT
END:VCALENDAR
