BEGIN:VCALENDAR
VERSION:2.0
PRODID:-//lickingswcd.com//NONSGML kigkonsult.se iCalcreator 2.30.10//
CALSCALE:GREGORIAN
METHOD:PUBLISH
UID:55d452d7-91a3-4adc-bec0-6cff1e717a09
X-WR-CALDESC:
X-WR-RELCALID:9093534bc68031fd85968434c1a86b40
X-WR-TIMEZONE:America/New_York
BEGIN:VTIMEZONE
TZID:America/New_York
BEGIN:STANDARD
TZNAME:EST
DTSTART:20191103T020000
TZOFFSETFROM:-0400
TZOFFSETTO:-0500
RDATE:20201101T020000
END:STANDARD
BEGIN:DAYLIGHT
TZNAME:EDT
DTSTART:20190310T020000
TZOFFSETFROM:-0500
TZOFFSETTO:-0400
RDATE:20200308T020000
RDATE:20210314T020000
END:DAYLIGHT
END:VTIMEZONE
BEGIN:VEVENT
UID:597f44c4-cc51-4c63-9f5e-5695fa8be13d
DTSTAMP:20260423T105352Z
DESCRIPTION:
DTSTART;TZID=America/New_York:20191128T000000
DTEND;TZID=America/New_York:20191128T235900
LOCATION:
SUMMARY:Thanksgiving Day - office closed
END:VEVENT
END:VCALENDAR
