BEGIN:VCALENDAR
VERSION:2.0
PRODID:-//lickingswcd.com//NONSGML kigkonsult.se iCalcreator 2.30.10//
CALSCALE:GREGORIAN
METHOD:PUBLISH
UID:f4c52b5d-3787-41a5-ab5d-24931cf3f2a5
X-WR-CALDESC:The Licking County Soil and Water Conservation District will h
 old the monthly District Board Meeting.  \n\nThe public is welcome to atte
 nd monthly Board meetings and serve on committees.  Contact Soil & Water a
 t 740-670-5330 for additional information.  \n
X-WR-RELCALID:4f4812ae451d5a38a3909cf865a222da
X-WR-TIMEZONE:America/New_York
BEGIN:VTIMEZONE
TZID:America/New_York
BEGIN:STANDARD
TZNAME:EST
DTSTART:20191103T020000
TZOFFSETFROM:-0400
TZOFFSETTO:-0500
RDATE:20201101T020000
END:STANDARD
BEGIN:DAYLIGHT
TZNAME:EDT
DTSTART:20190310T020000
TZOFFSETFROM:-0500
TZOFFSETTO:-0400
RDATE:20200308T020000
RDATE:20210314T020000
END:DAYLIGHT
END:VTIMEZONE
BEGIN:VEVENT
UID:9b155025-efd5-4932-8b86-3c3987f25d12
DTSTAMP:20260423T122948Z
DESCRIPTION:The Licking County Soil and Water Conservation District will ho
 ld the monthly District Board Meeting.  \n\nThe public is welcome to atten
 d monthly Board meetings and serve on committees.  Contact Soil & Water at
  740-670-5330 for additional information.  \n
DTSTART;TZID=America/New_York:20191211T163000
DTEND;TZID=America/New_York:20191211T180000
LOCATION:Ag Services Center
SUMMARY:Soil & Water Monthly Board Meeting
END:VEVENT
END:VCALENDAR
