BEGIN:VCALENDAR
VERSION:2.0
PRODID:-//lickingswcd.com//NONSGML kigkonsult.se iCalcreator 2.30.10//
CALSCALE:GREGORIAN
METHOD:PUBLISH
UID:d2f0035c-923a-4e87-abb4-a37867391b62
X-WR-CALDESC:The Licking County Agricultural Hall of Fame is established to
  recognize those individuals who have demonstrated a life long exemplary s
 ervice to their community and the industry of agriculture.\n\n
X-WR-RELCALID:e2c5e7a93f5b7a6348c2be2e1e55f9d9
X-WR-TIMEZONE:America/New_York
BEGIN:VTIMEZONE
TZID:America/New_York
BEGIN:STANDARD
TZNAME:EST
DTSTART:20191103T020000
TZOFFSETFROM:-0400
TZOFFSETTO:-0500
RDATE:20201101T020000
END:STANDARD
BEGIN:DAYLIGHT
TZNAME:EDT
DTSTART:20190310T020000
TZOFFSETFROM:-0500
TZOFFSETTO:-0400
RDATE:20200308T020000
RDATE:20210314T020000
END:DAYLIGHT
END:VTIMEZONE
BEGIN:VEVENT
UID:bb8481e4-79e7-48f7-afbe-eb32f48b2dfe
DTSTAMP:20260423T124056Z
DESCRIPTION:The Licking County Agricultural Hall of Fame is established to 
 recognize those individuals who have demonstrated a life long exemplary se
 rvice to their community and the industry of agriculture.\n\n
DTSTART;TZID=America/New_York:20191218T000000
DTEND;TZID=America/New_York:20191218T235900
LOCATION:
SUMMARY:Ag Hall of Fame applications due date
END:VEVENT
END:VCALENDAR
