BEGIN:VCALENDAR
VERSION:2.0
PRODID:-//lickingswcd.com//NONSGML kigkonsult.se iCalcreator 2.30.10//
CALSCALE:GREGORIAN
METHOD:PUBLISH
UID:0c644620-4cc9-4f7d-b08e-8757299867bf
X-WR-CALDESC:Licking Soil & Water is a Certified Local Sponsor for the Ohio
  Department of Agriculture's 2020 Local Agricultural Easement Purchase Pro
 gram (LAEPP). \n\nSoil & Water will receive funds from Clean Ohio to prese
 rve farmland under the Local Agricultural Easement Purchase Program (LAEPP
 ) in 2020.\nTo be considered for permanent protection\, the farm must rema
 in in agriculture production in perpetuity. Selected farms must be at leas
 t 40 acres\, actively engaged in farming\, participate in the Current Agri
 cultural Use Valuation (CAUV) program\, demonstrate good stewardship of th
 e land\, have the support of their local government and not lay directly i
 n the path of development.
X-WR-RELCALID:ecef3b6929aef71470496a6c7ab5eecd
X-WR-TIMEZONE:America/New_York
BEGIN:VTIMEZONE
TZID:America/New_York
BEGIN:STANDARD
TZNAME:EST
DTSTART:20191103T020000
TZOFFSETFROM:-0400
TZOFFSETTO:-0500
RDATE:20201101T020000
END:STANDARD
BEGIN:DAYLIGHT
TZNAME:EDT
DTSTART:20190310T020000
TZOFFSETFROM:-0500
TZOFFSETTO:-0400
RDATE:20200308T020000
RDATE:20210314T020000
END:DAYLIGHT
END:VTIMEZONE
BEGIN:VEVENT
UID:0b7c8dcd-08eb-4716-82aa-593805d50f6c
DTSTAMP:20260423T143212Z
DESCRIPTION:Licking Soil & Water is a Certified Local Sponsor for the Ohio 
 Department of Agriculture's 2020 Local Agricultural Easement Purchase Prog
 ram (LAEPP). \n\nSoil & Water will receive funds from Clean Ohio to preser
 ve farmland under the Local Agricultural Easement Purchase Program (LAEPP)
  in 2020.\nTo be considered for permanent protection\, the farm must remai
 n in agriculture production in perpetuity. Selected farms must be at least
  40 acres\, actively engaged in farming\, participate in the Current Agric
 ultural Use Valuation (CAUV) program\, demonstrate good stewardship of the
  land\, have the support of their local government and not lay directly in
  the path of development.
DTSTART;TZID=America/New_York:20200107T000000
DTEND;TZID=America/New_York:20200207T235900
LOCATION:Soil & Water\, 771 East Main Street\, Suite 100\, Newark\, OH
SUMMARY:Farmland Preservation 2020 Application accepted
END:VEVENT
END:VCALENDAR
