BEGIN:VCALENDAR
VERSION:2.0
PRODID:-//lickingswcd.com//NONSGML kigkonsult.se iCalcreator 2.30.10//
CALSCALE:GREGORIAN
METHOD:PUBLISH
UID:d6e10c79-b3c8-4ff0-9410-938c6ace5888
X-WR-CALDESC:
X-WR-RELCALID:0a7edbee542fac6bdf67e497ca9bc21c
X-WR-TIMEZONE:America/New_York
BEGIN:VTIMEZONE
TZID:America/New_York
BEGIN:STANDARD
TZNAME:EST
DTSTART:20191103T020000
TZOFFSETFROM:-0400
TZOFFSETTO:-0500
RDATE:20201101T020000
END:STANDARD
BEGIN:DAYLIGHT
TZNAME:EDT
DTSTART:20190310T020000
TZOFFSETFROM:-0500
TZOFFSETTO:-0400
RDATE:20200308T020000
RDATE:20210314T020000
END:DAYLIGHT
END:VTIMEZONE
BEGIN:VEVENT
UID:42c21232-8f0e-49ec-9ff2-bc99cdf273c9
DTSTAMP:20260423T142811Z
DESCRIPTION:
DTSTART;TZID=America/New_York:20200120T000000
DTEND;TZID=America/New_York:20200120T235900
LOCATION:
SUMMARY:Martin Luther King Day- office closed
END:VEVENT
END:VCALENDAR
