BEGIN:VCALENDAR
VERSION:2.0
PRODID:-//lickingswcd.com//NONSGML kigkonsult.se iCalcreator 2.30.10//
CALSCALE:GREGORIAN
METHOD:PUBLISH
UID:2da8abf5-39aa-4bfa-9326-cb27a668b0b1
X-WR-CALDESC:
X-WR-RELCALID:25c72e0f3b3f6a85cb03220ec4e5611a
X-WR-TIMEZONE:America/New_York
BEGIN:VTIMEZONE
TZID:America/New_York
BEGIN:STANDARD
TZNAME:EST
DTSTART:20191103T020000
TZOFFSETFROM:-0400
TZOFFSETTO:-0500
RDATE:20201101T020000
END:STANDARD
BEGIN:DAYLIGHT
TZNAME:EDT
DTSTART:20190310T020000
TZOFFSETFROM:-0500
TZOFFSETTO:-0400
RDATE:20200308T020000
RDATE:20210314T020000
END:DAYLIGHT
END:VTIMEZONE
BEGIN:VEVENT
UID:03ea4c62-3943-4a16-84f0-6288db48df70
DTSTAMP:20260423T160700Z
DESCRIPTION:
DTSTART;TZID=America/New_York:20200203T000000
DTEND;TZID=America/New_York:20200203T235900
LOCATION:
SUMMARY:Start Taking Tree Sale Orders
END:VEVENT
END:VCALENDAR
