BEGIN:VCALENDAR
VERSION:2.0
PRODID:-//lickingswcd.com//NONSGML kigkonsult.se iCalcreator 2.30.10//
CALSCALE:GREGORIAN
METHOD:PUBLISH
UID:8a01a06c-ab98-440e-b444-b60c2e038696
X-WR-CALDESC:OSU Extension- Licking County is offering the required class. 
  The first 3 hours is pesticide recertification and the 4th hour is fertil
 izer recertification.\n\nA $35 fee is payable at the door and includes mat
 erials and food. This fee is in addition to the $30 payable to ODA. \nFor 
 just the fertilizer section\, the cost is $10.\n\n
X-WR-RELCALID:5b0774bca93316d4bf163cd2de5e2c83
X-WR-TIMEZONE:America/New_York
BEGIN:VTIMEZONE
TZID:America/New_York
BEGIN:STANDARD
TZNAME:EST
DTSTART:20191103T020000
TZOFFSETFROM:-0400
TZOFFSETTO:-0500
RDATE:20201101T020000
END:STANDARD
BEGIN:DAYLIGHT
TZNAME:EDT
DTSTART:20190310T020000
TZOFFSETFROM:-0500
TZOFFSETTO:-0400
RDATE:20200308T020000
RDATE:20210314T020000
END:DAYLIGHT
END:VTIMEZONE
BEGIN:VEVENT
UID:928d1030-077a-4316-a8d6-bf796a9a4beb
DTSTAMP:20260423T162145Z
DESCRIPTION:OSU Extension- Licking County is offering the required class.  
 The first 3 hours is pesticide recertification and the 4th hour is fertili
 zer recertification.\n\nA $35 fee is payable at the door and includes mate
 rials and food. This fee is in addition to the $30 payable to ODA. \nFor j
 ust the fertilizer section\, the cost is $10.\n\n
DTSTART;TZID=America/New_York:20200218T180000
DTEND;TZID=America/New_York:20200218T220000
LOCATION:Ag Services Center\, 771 East Main Street\, Newark\, OH
SUMMARY:Pesticide & Fertilizer Applicator Certification/Recertification Sch
 eduled
END:VEVENT
END:VCALENDAR
