BEGIN:VCALENDAR
VERSION:2.0
PRODID:-//lickingswcd.com//NONSGML kigkonsult.se iCalcreator 2.30.10//
CALSCALE:GREGORIAN
METHOD:PUBLISH
UID:bc0e54c4-4058-43ea-afc1-e0cb3d330fc3
X-WR-CALDESC:Licking County River Round Up is an annual\, county-wide\, wat
 erway cleanup event in the Licking River Watershed. Hundreds of volunteers
  participate in the event by collecting trash and debris along shorelines 
 and in the water.\nThe River Round Up Poster Contest is open to all school
 -aged youth in primary\, secondary schools (public\, private\, and home sc
 hool\; K-12) or school-aged youth living in Licking County.\n\nPosters sho
 uld reflect water pollution awareness and encourage volunteer participatio
 n in the River Round Up. Prizes will be awarded to students and their resp
 ective schools.\n\nThe winning individual will receive $100 in prize money
  and winner’s school will receive a $500 scholarship to use for advancing 
 science and art programs. Up to two honorable mentions will receive $50 in
  prize money and a $250 scholarship each for their school.\n\nThe grand pr
 ize also includes having the winning poster used as the primary electronic
  marketing picture for the 2020 River Round Up. Entries will be displayed 
 on the River Round Up Facebook page. Winning posters will be displayed at 
 a River Round Up registration sites on Saturday\, September 12\, 2020.\n\n
 CONTEST RULES:\n\n1. The poster contest is open to any K-12 student who re
 sides or attends school in Licking County. (including public\, private\, a
 nd homeschooled)\n2. Posters should be between 8.5 x 11 inches and 11 x 17
  inches and have flat artwork only. Do not fold or roll posters. No glitte
 r.\n3. All entries must be received by 4:30 p.m. Friday\, February 21\, 20
 20. Only one entry per student. Winners will be announced by Friday\, Marc
 h 13\, 2020.\n4. Attach an official entry form to the back of the poster e
 ntry\; entry form must be filled out completely and legibly.\n5. Mail entr
 ies to: River Round Up Poster Contest\, c/o LCR\, 20 S. 2nd St.\, Newark\,
  OH 43055.\n6. Deliver entries to: River Round Up Poster Contest\, Licking
  County Recycling\, 295 Wilson St. Newark\, OH 43055.\n7. All entries beco
 me the property of the River Round Up committee and will not be returned t
 o artist.\n8. Only original artwork with positive themes will be accepted.
  Winning artwork may be modified to suit marketing purposes.\n\nOFFICIAL R
 IVER ROUND UP 2020 POSTER CONTEST ENTRY FORM available HERE.\n\nMail or de
 liver entries to:\n\nMail: River Round Up Poster Contest\, c/o LCR\, 20 S.
  2nd St.\, Newark\, OH 43055.\nDeliver:  River Round Up Poster Contest\, L
 icking County Recycling\, 295 Wilson St. Newark\, OH 43055.
X-WR-RELCALID:64315b8fecd938b50550ac272db5c0d0
X-WR-TIMEZONE:America/New_York
BEGIN:VTIMEZONE
TZID:America/New_York
BEGIN:STANDARD
TZNAME:EST
DTSTART:20191103T020000
TZOFFSETFROM:-0400
TZOFFSETTO:-0500
RDATE:20201101T020000
END:STANDARD
BEGIN:DAYLIGHT
TZNAME:EDT
DTSTART:20190310T020000
TZOFFSETFROM:-0500
TZOFFSETTO:-0400
RDATE:20200308T020000
RDATE:20210314T020000
END:DAYLIGHT
END:VTIMEZONE
BEGIN:VEVENT
UID:87fb1f62-c99e-4821-921d-72933be62671
DTSTAMP:20260423T162053Z
DESCRIPTION:Licking County River Round Up is an annual\, county-wide\, wate
 rway cleanup event in the Licking River Watershed. Hundreds of volunteers 
 participate in the event by collecting trash and debris along shorelines a
 nd in the water.\nThe River Round Up Poster Contest is open to all school-
 aged youth in primary\, secondary schools (public\, private\, and home sch
 ool\; K-12) or school-aged youth living in Licking County.\n\nPosters shou
 ld reflect water pollution awareness and encourage volunteer participation
  in the River Round Up. Prizes will be awarded to students and their respe
 ctive schools.\n\nThe winning individual will receive $100 in prize money 
 and winner’s school will receive a $500 scholarship to use for advancing s
 cience and art programs. Up to two honorable mentions will receive $50 in 
 prize money and a $250 scholarship each for their school.\n\nThe grand pri
 ze also includes having the winning poster used as the primary electronic 
 marketing picture for the 2020 River Round Up. Entries will be displayed o
 n the River Round Up Facebook page. Winning posters will be displayed at a
  River Round Up registration sites on Saturday\, September 12\, 2020.\n\nC
 ONTEST RULES:\n\n1. The poster contest is open to any K-12 student who res
 ides or attends school in Licking County. (including public\, private\, an
 d homeschooled)\n2. Posters should be between 8.5 x 11 inches and 11 x 17 
 inches and have flat artwork only. Do not fold or roll posters. No glitter
 .\n3. All entries must be received by 4:30 p.m. Friday\, February 21\, 202
 0. Only one entry per student. Winners will be announced by Friday\, March
  13\, 2020.\n4. Attach an official entry form to the back of the poster en
 try\; entry form must be filled out completely and legibly.\n5. Mail entri
 es to: River Round Up Poster Contest\, c/o LCR\, 20 S. 2nd St.\, Newark\, 
 OH 43055.\n6. Deliver entries to: River Round Up Poster Contest\, Licking 
 County Recycling\, 295 Wilson St. Newark\, OH 43055.\n7. All entries becom
 e the property of the River Round Up committee and will not be returned to
  artist.\n8. Only original artwork with positive themes will be accepted. 
 Winning artwork may be modified to suit marketing purposes.\n\nOFFICIAL RI
 VER ROUND UP 2020 POSTER CONTEST ENTRY FORM available HERE.\n\nMail or del
 iver entries to:\n\nMail: River Round Up Poster Contest\, c/o LCR\, 20 S. 
 2nd St.\, Newark\, OH 43055.\nDeliver:  River Round Up Poster Contest\, Li
 cking County Recycling\, 295 Wilson St. Newark\, OH 43055.
DTSTART;TZID=America/New_York:20200221T163000
DTEND;TZID=America/New_York:20200221T170000
LOCATION:Licking County Recycling
SUMMARY:River Round Up Poster Contest Deadline
END:VEVENT
END:VCALENDAR
