BEGIN:VCALENDAR
VERSION:2.0
PRODID:-//lickingswcd.com//NONSGML kigkonsult.se iCalcreator 2.30.10//
CALSCALE:GREGORIAN
METHOD:PUBLISH
UID:1e68b53b-6c75-427d-9086-88ea76d53657
X-WR-CALDESC:Middle and high school students — STEMfest! is for you. Gather
  a team\, or work individually\, to solve a real-world STEM problem develo
 ped by area businesses. Winners receive awards as well as potential schola
 rships and internships. You’ll choose from one of three Problem Solving Ch
 allenges and present your solution to a panel of judges during our STEMfes
 t! competition. You’ll also have the chance to learn about STEM careers fr
 om local  businesses during our hands-on career show and tell. All are wel
 come to attend STEMfest! to watch the competition and learn about local ST
 EM industries and career opportunities.\n\n2020 Problem Solving Challenges
 :\n\nEngineering Design – Bridge Architecture: Presented by Newark City En
 gineers and Central Ohio Technical College (Middle School Only)\nMaterials
  Engineering –  Engineered Concrete: Presented by Central Ohio Technical C
 ollege and The American Ceramics Society\nEnvironmental Impact Challenge –
  Pollution & Water Quality: Presented by Denison University Department of 
 Chemistry and Biochemistry\nThermal Energy Challenge – Home Insulation Eff
 iciency: Presented by Owens Corning Science and Technology Center\n\nStude
 nts — gain hands-on experience in STEM fields while connecting with local 
 STEM industry professionals and community members at our signature STEM ev
 ent\n\nAges: Middle and high school students\n\nCost: STEMfest! team parti
 cipation is FREE.  STEMfest! attendance is FREE and Open to the Public.
X-WR-RELCALID:8be2a86161f26ed6a4e03bde7f30f1d9
X-WR-TIMEZONE:America/New_York
BEGIN:VTIMEZONE
TZID:America/New_York
BEGIN:STANDARD
TZNAME:EST
DTSTART:20191103T020000
TZOFFSETFROM:-0400
TZOFFSETTO:-0500
RDATE:20201101T020000
END:STANDARD
BEGIN:DAYLIGHT
TZNAME:EDT
DTSTART:20190310T020000
TZOFFSETFROM:-0500
TZOFFSETTO:-0400
RDATE:20200308T020000
RDATE:20210314T020000
END:DAYLIGHT
END:VTIMEZONE
BEGIN:VEVENT
UID:a15e149f-10c7-4cc1-a113-41d36e45c7ef
DTSTAMP:20260423T155915Z
DESCRIPTION:Middle and high school students — STEMfest! is for you. Gather 
 a team\, or work individually\, to solve a real-world STEM problem develop
 ed by area businesses. Winners receive awards as well as potential scholar
 ships and internships. You’ll choose from one of three Problem Solving Cha
 llenges and present your solution to a panel of judges during our STEMfest
 ! competition. You’ll also have the chance to learn about STEM careers fro
 m local  businesses during our hands-on career show and tell. All are welc
 ome to attend STEMfest! to watch the competition and learn about local STE
 M industries and career opportunities.\n\n2020 Problem Solving Challenges:
 \n\nEngineering Design – Bridge Architecture: Presented by Newark City Eng
 ineers and Central Ohio Technical College (Middle School Only)\nMaterials 
 Engineering –  Engineered Concrete: Presented by Central Ohio Technical Co
 llege and The American Ceramics Society\nEnvironmental Impact Challenge – 
 Pollution & Water Quality: Presented by Denison University Department of C
 hemistry and Biochemistry\nThermal Energy Challenge – Home Insulation Effi
 ciency: Presented by Owens Corning Science and Technology Center\n\nStuden
 ts — gain hands-on experience in STEM fields while connecting with local S
 TEM industry professionals and community members at our signature STEM eve
 nt\n\nAges: Middle and high school students\n\nCost: STEMfest! team partic
 ipation is FREE.  STEMfest! attendance is FREE and Open to the Public.
DTSTART;TZID=America/New_York:20200229T090000
DTEND;TZID=America/New_York:20200301T160000
LOCATION:The Works\, Newark OH
SUMMARY:STEMFest at The Works
END:VEVENT
END:VCALENDAR
