BEGIN:VCALENDAR
VERSION:2.0
PRODID:-//lickingswcd.com//NONSGML kigkonsult.se iCalcreator 2.30.10//
CALSCALE:GREGORIAN
METHOD:PUBLISH
UID:6e5584d4-450c-4552-943a-b092d0e891d8
X-WR-CALDESC:The public is welcome to attend monthly Board meetings and ser
 ve on committees.  \n\nContact Soil & Water at 740-670-5330 for additional
  information.
X-WR-RELCALID:cf6a12413b994bb968f128be4a91c3ff
X-WR-TIMEZONE:America/New_York
BEGIN:VTIMEZONE
TZID:America/New_York
BEGIN:STANDARD
TZNAME:EST
DTSTART:20191103T020000
TZOFFSETFROM:-0400
TZOFFSETTO:-0500
RDATE:20201101T020000
END:STANDARD
BEGIN:DAYLIGHT
TZNAME:EDT
DTSTART:20200308T020000
TZOFFSETFROM:-0500
TZOFFSETTO:-0400
RDATE:20210314T020000
END:DAYLIGHT
END:VTIMEZONE
BEGIN:VEVENT
UID:642fe9f1-6eed-4311-987c-d5fb62bac847
DTSTAMP:20260423T175434Z
DESCRIPTION:The public is welcome to attend monthly Board meetings and serv
 e on committees.  \n\nContact Soil & Water at 740-670-5330 for additional 
 information.
DTSTART;TZID=America/New_York:20200311T163000
DTEND;TZID=America/New_York:20200311T180000
LOCATION:Ag Service Center\, 771 East Main Street\, Newark\, OH
SUMMARY:Soil & Water Board Meeting
END:VEVENT
END:VCALENDAR
