BEGIN:VCALENDAR
VERSION:2.0
PRODID:-//lickingswcd.com//NONSGML kigkonsult.se iCalcreator 2.30.10//
CALSCALE:GREGORIAN
METHOD:PUBLISH
UID:ab5cc3bc-3738-4459-976f-8b1e39179774
X-WR-CALDESC:
X-WR-RELCALID:1260c3c9f9216cdcad179414b6f36dec
X-WR-TIMEZONE:America/New_York
BEGIN:VTIMEZONE
TZID:America/New_York
BEGIN:STANDARD
TZNAME:EST
DTSTART:20191103T020000
TZOFFSETFROM:-0400
TZOFFSETTO:-0500
RDATE:20201101T020000
END:STANDARD
BEGIN:DAYLIGHT
TZNAME:EDT
DTSTART:20200308T020000
TZOFFSETFROM:-0500
TZOFFSETTO:-0400
RDATE:20210314T020000
END:DAYLIGHT
END:VTIMEZONE
BEGIN:VEVENT
UID:7d2699bf-9897-479f-a854-49233c71a266
DTSTAMP:20260423T175933Z
DESCRIPTION:
DTSTART;TZID=America/New_York:20200313T070000
DTEND;TZID=America/New_York:20200313T090000
LOCATION:OSU/COTC Campus\, Reese Center
SUMMARY:CANCELED Licking County Ag Hall of Fame Inductee Breakfast
END:VEVENT
END:VCALENDAR
