BEGIN:VCALENDAR
VERSION:2.0
PRODID:-//lickingswcd.com//NONSGML kigkonsult.se iCalcreator 2.30.10//
CALSCALE:GREGORIAN
METHOD:PUBLISH
UID:1d98bb88-826d-4d5e-8f5a-f29923c91043
X-WR-CALDESC:The term “Farmer’s Share” has come to mean many things over th
 e years. Initially\, it was a representation of the portion of money paid 
 to a farmer when purchasing a typical restaurant breakfast (less than $1).
  It also celebrates the importance of a farmer sharing his or her story ab
 out agriculture. In other ways\, it also acknowledges the farmer’s share o
 f responsibility in supporting the community. Regardless of the definition
 \, the event is making an impact.
X-WR-RELCALID:4a4288ce754f3026bcd3adfc3e777696
X-WR-TIMEZONE:America/New_York
BEGIN:VTIMEZONE
TZID:America/New_York
BEGIN:STANDARD
TZNAME:EST
DTSTART:20191103T020000
TZOFFSETFROM:-0400
TZOFFSETTO:-0500
RDATE:20201101T020000
END:STANDARD
BEGIN:DAYLIGHT
TZNAME:EDT
DTSTART:20200308T020000
TZOFFSETFROM:-0500
TZOFFSETTO:-0400
RDATE:20210314T020000
END:DAYLIGHT
END:VTIMEZONE
BEGIN:VEVENT
UID:ca4749b4-8161-4eba-8bb7-5a0a4fc58fd2
DTSTAMP:20260423T173919Z
DESCRIPTION:The term “Farmer’s Share” has come to mean many things over the
  years. Initially\, it was a representation of the portion of money paid t
 o a farmer when purchasing a typical restaurant breakfast (less than $1). 
 It also celebrates the importance of a farmer sharing his or her story abo
 ut agriculture. In other ways\, it also acknowledges the farmer’s share of
  responsibility in supporting the community. Regardless of the definition\
 , the event is making an impact.
DTSTART;TZID=America/New_York:20200314T080000
DTEND;TZID=America/New_York:20200314T100000
LOCATION:C-TEC\, Price Road\, Newark\, OH
SUMMARY:CANCELED Farm Bureau hosting Farmer Share Breakfast
END:VEVENT
END:VCALENDAR
