BEGIN:VCALENDAR
VERSION:2.0
PRODID:-//lickingswcd.com//NONSGML kigkonsult.se iCalcreator 2.30.10//
CALSCALE:GREGORIAN
METHOD:PUBLISH
UID:f1b6fd4d-575b-4f7d-a7d8-a0b4018ce30d
X-WR-CALDESC:It is important to us that we support the nurseries that we ha
 ve worked with for years\, even decades\, and to continue our 75 year comm
 itment to provide our community with seedling trees.  \n \nLicking County 
 Soil & Water Conservation District is committed to serving our customers w
 hile doing our part to minimize the spread of COVID-19.  We were unable to
  secure all the species on the original order form.  You will be contacted
  directly regarding your order.  \n\nWe are working on seedling tree picku
 p details to accommodate social distancing.  Pickup details will be forthc
 oming.  Thank you for your patience.\n\nOur Newark office is minimally sta
 ffed Monday through Friday from 8:00 a.m. to 4:30 p.m.  A team member is a
 vailable to take phone calls\, but the office is temporarily closed to the
  public.   Multiple Soil & Water team members are working remotely\, but a
 re able to respond to emails and phone calls.  To safeguard each other and
  our community\, please use Information@LickingSWCD.com\, (740) 670-5330.
 \n\n
X-WR-RELCALID:4668039826c08f4f92e3bc2304a2f2a4
X-WR-TIMEZONE:America/New_York
BEGIN:VTIMEZONE
TZID:America/New_York
BEGIN:STANDARD
TZNAME:EST
DTSTART:20191103T020000
TZOFFSETFROM:-0400
TZOFFSETTO:-0500
RDATE:20201101T020000
END:STANDARD
BEGIN:DAYLIGHT
TZNAME:EDT
DTSTART:20200308T020000
TZOFFSETFROM:-0500
TZOFFSETTO:-0400
RDATE:20210314T020000
END:DAYLIGHT
END:VTIMEZONE
BEGIN:VEVENT
UID:f9aa78f3-8545-4459-b431-08a16245b6c2
DTSTAMP:20260423T192133Z
DESCRIPTION:It is important to us that we support the nurseries that we hav
 e worked with for years\, even decades\, and to continue our 75 year commi
 tment to provide our community with seedling trees.  \n \nLicking County S
 oil & Water Conservation District is committed to serving our customers wh
 ile doing our part to minimize the spread of COVID-19.  We were unable to 
 secure all the species on the original order form.  You will be contacted 
 directly regarding your order.  \n\nWe are working on seedling tree pickup
  details to accommodate social distancing.  Pickup details will be forthco
 ming.  Thank you for your patience.\n\nOur Newark office is minimally staf
 fed Monday through Friday from 8:00 a.m. to 4:30 p.m.  A team member is av
 ailable to take phone calls\, but the office is temporarily closed to the 
 public.   Multiple Soil & Water team members are working remotely\, but ar
 e able to respond to emails and phone calls.  To safeguard each other and 
 our community\, please use Information@LickingSWCD.com\, (740) 670-5330.\n
 \n
DTSTART;TZID=America/New_York:20200417T080000
DTEND;TZID=America/New_York:20200417T190000
LOCATION:Soil & Water\, 771 East Main Street\, Suite 100\, Newark\, OH
SUMMARY:Tree Sale Pick Up day
END:VEVENT
END:VCALENDAR
