BEGIN:VCALENDAR
VERSION:2.0
PRODID:-//lickingswcd.com//NONSGML kigkonsult.se iCalcreator 2.30.10//
CALSCALE:GREGORIAN
METHOD:PUBLISH
UID:eff60d9c-abd0-4bd2-8193-04f1b19706d2
X-WR-CALDESC:Why plant rain gardens? The news has recently been saturated (
 pun intended) with water-related headlines about elevated nitrate levels a
 nd localized flooding from heavy rainfall and stormwater runoff.  Toxic al
 gae continues to be a problem at Buckeye Lake and around Ohio.  Rain garde
 ns allow rain water to slowly soak into the ground and reduce the amount o
 f polluted stormwater flowing into nearby streams.   \n\nWhat is a rain ba
 rrel? Rain barrels collect and store rain water from rooftops\, thereby re
 ducing runoff and flooding during storms. Use rain barrel water to irrigat
 e landscaping and gardens while saving money on water bills.\n\nAt the wor
 kshop\, view a well-established rain garden\; then learn how to design and
  install a rain garden on your property.  Next\, build your own rain barre
 l so you can start harvesting rain water from your roof.\n\nRSVP required.
   The cost is $50 per rain barrel.
X-WR-RELCALID:952732112e46583b597d34f8854140eb
X-WR-TIMEZONE:America/New_York
BEGIN:VTIMEZONE
TZID:America/New_York
BEGIN:STANDARD
TZNAME:EST
DTSTART:20191103T020000
TZOFFSETFROM:-0400
TZOFFSETTO:-0500
RDATE:20201101T020000
END:STANDARD
BEGIN:DAYLIGHT
TZNAME:EDT
DTSTART:20200308T020000
TZOFFSETFROM:-0500
TZOFFSETTO:-0400
RDATE:20210314T020000
END:DAYLIGHT
END:VTIMEZONE
BEGIN:VEVENT
UID:63087c64-f607-4ed9-b8e8-fa85f0b6383d
DTSTAMP:20260423T211158Z
DESCRIPTION:Why plant rain gardens? The news has recently been saturated (p
 un intended) with water-related headlines about elevated nitrate levels an
 d localized flooding from heavy rainfall and stormwater runoff.  Toxic alg
 ae continues to be a problem at Buckeye Lake and around Ohio.  Rain garden
 s allow rain water to slowly soak into the ground and reduce the amount of
  polluted stormwater flowing into nearby streams.   \n\nWhat is a rain bar
 rel? Rain barrels collect and store rain water from rooftops\, thereby red
 ucing runoff and flooding during storms. Use rain barrel water to irrigate
  landscaping and gardens while saving money on water bills.\n\nAt the work
 shop\, view a well-established rain garden\; then learn how to design and 
 install a rain garden on your property.  Next\, build your own rain barrel
  so you can start harvesting rain water from your roof.\n\nRSVP required. 
  The cost is $50 per rain barrel.
DTSTART;TZID=America/New_York:20200507T180000
DTEND;TZID=America/New_York:20200507T200000
LOCATION:Infirmary Mound Park\, 4351 Lancaster Road\, Granville\, Ohio
SUMMARY:CANCELED  DIY Rain Barrel and Rain Garden Workshop
END:VEVENT
END:VCALENDAR
