BEGIN:VCALENDAR
VERSION:2.0
PRODID:-//lickingswcd.com//NONSGML kigkonsult.se iCalcreator 2.30.10//
CALSCALE:GREGORIAN
METHOD:PUBLISH
UID:3057a27c-89cf-469b-916e-de57502337d6
X-WR-CALDESC:The public is welcome to attend monthly Board meetings and ser
 ve on committees.  \n\nDue to COVID\, the Board meeting will be held via Z
 oom.  The public is welcome to join the meeting\, log on information:  \nJ
 oin Zoom Meeting\nhttps://us02web.zoom.us/j/85840883600\n\nMeeting ID: 858
  4088 3600\nOne tap mobile\n+13126266799\,\,85840883600# US (Chicago)\n+16
 465588656\,\,85840883600# US (New York)\n\nMeeting ID: 858 4088 3600\n\n\n
 Contact Soil & Water at 740-670-5330 for additional information.
X-WR-RELCALID:2c0f032167006237072e47e4e98d0576
X-WR-TIMEZONE:America/New_York
BEGIN:VTIMEZONE
TZID:America/New_York
BEGIN:STANDARD
TZNAME:EST
DTSTART:20191103T020000
TZOFFSETFROM:-0400
TZOFFSETTO:-0500
RDATE:20201101T020000
RDATE:20211107T020000
END:STANDARD
BEGIN:DAYLIGHT
TZNAME:EDT
DTSTART:20200308T020000
TZOFFSETFROM:-0500
TZOFFSETTO:-0400
RDATE:20210314T020000
END:DAYLIGHT
END:VTIMEZONE
BEGIN:VEVENT
UID:2480446a-af1d-4240-adb4-7723fa599bef
DTSTAMP:20260423T211353Z
DESCRIPTION:The public is welcome to attend monthly Board meetings and serv
 e on committees.  \n\nDue to COVID\, the Board meeting will be held via Zo
 om.  The public is welcome to join the meeting\, log on information:  \nJo
 in Zoom Meeting\nhttps://us02web.zoom.us/j/85840883600\n\nMeeting ID: 858 
 4088 3600\nOne tap mobile\n+13126266799\,\,85840883600# US (Chicago)\n+164
 65588656\,\,85840883600# US (New York)\n\nMeeting ID: 858 4088 3600\n\n\nC
 ontact Soil & Water at 740-670-5330 for additional information.
DTSTART;TZID=America/New_York:20200513T163000
DTEND;TZID=America/New_York:20200513T180000
LOCATION:Ag Service Center\, 771 East Main Street\, Newark\, OH
SUMMARY:Soil & Water Board Meeting
END:VEVENT
END:VCALENDAR
