BEGIN:VCALENDAR
VERSION:2.0
PRODID:-//lickingswcd.com//NONSGML kigkonsult.se iCalcreator 2.30.10//
CALSCALE:GREGORIAN
METHOD:PUBLISH
UID:7198873d-8d66-4b57-8070-667d33041b5c
X-WR-CALDESC:The next deadline for Ohio Conservation Stewardship Program (C
 SP) applications to be considered for funding this fiscal year is May 29\,
  2020. Through CSP\, USDA’s Natural Resources Conservation Service (NRCS) 
 helps Ohio farmers and forest landowners earn payments for expanding conse
 rvation activities while maintaining agricultural production on their land
 . \n\nUSDA Service Centers are open for business by phone appointment only
  and field work will continue with appropriate social distancing. While pr
 ogram delivery staff will continue to come into the office\, they will be 
 working with producers by phone\, and using online tools whenever possible
 .  Contact Licking County's offices at (740)670-5340.
X-WR-RELCALID:8bd7f96c7bd2c6bb6d14cb328961ec23
X-WR-TIMEZONE:America/New_York
BEGIN:VTIMEZONE
TZID:America/New_York
BEGIN:STANDARD
TZNAME:EST
DTSTART:20191103T020000
TZOFFSETFROM:-0400
TZOFFSETTO:-0500
RDATE:20201101T020000
RDATE:20211107T020000
END:STANDARD
BEGIN:DAYLIGHT
TZNAME:EDT
DTSTART:20200308T020000
TZOFFSETFROM:-0500
TZOFFSETTO:-0400
RDATE:20210314T020000
END:DAYLIGHT
END:VTIMEZONE
BEGIN:VEVENT
UID:4d9c2e15-5f5d-4a48-9c52-c4cc023ec443
DTSTAMP:20260423T210838Z
DESCRIPTION:The next deadline for Ohio Conservation Stewardship Program (CS
 P) applications to be considered for funding this fiscal year is May 29\, 
 2020. Through CSP\, USDA’s Natural Resources Conservation Service (NRCS) h
 elps Ohio farmers and forest landowners earn payments for expanding conser
 vation activities while maintaining agricultural production on their land.
  \n\nUSDA Service Centers are open for business by phone appointment only 
 and field work will continue with appropriate social distancing. While pro
 gram delivery staff will continue to come into the office\, they will be w
 orking with producers by phone\, and using online tools whenever possible.
   Contact Licking County's offices at (740)670-5340.
DTSTART;TZID=America/New_York:20200529T133000
DTEND;TZID=America/New_York:20200529T143000
LOCATION:USDA NRCS office\, 771 East Main Street\, Newark\, OH  43055
SUMMARY:Conservation Stewardship Program (CSP)
END:VEVENT
END:VCALENDAR
