BEGIN:VCALENDAR
VERSION:2.0
PRODID:-//lickingswcd.com//NONSGML kigkonsult.se iCalcreator 2.30.10//
CALSCALE:GREGORIAN
METHOD:PUBLISH
UID:fb2455b3-e93e-426c-8de1-928533579f3b
X-WR-CALDESC:The Board will hold it's regularly scheduled meeting in person
 .  Link to the agenda below.  \n\nDue to the orders from the Governor\, th
 e public is welcome to join the meeting via Zoom.  You may dial in or use 
 the application to join via Polycom.  \n\n\nTopic: Licking SWCD Board meet
 ing\nTime: Jun 10\, 2020 04:30 PM Eastern Time (US and Canada)\n\nJoin Zoo
 m Meeting\nhttps://us02web.zoom.us/j/84174167042\n\nMeeting ID: 841 7416 7
 042\nOne tap mobile\n+13126266799\,\,84174167042# US (Chicago)\n+164655886
 56\,\,84174167042# US (New York)\n\nDial by your location\n        +1 312 
 626 6799 US (Chicago)\n        +1 646 558 8656 US (New York)\n        +1 3
 01 715 8592 US (Germantown)\n        +1 346 248 7799 US (Houston)\n       
  +1 669 900 9128 US (San Jose)\n        +1 253 215 8782 US (Tacoma)\nMeeti
 ng ID: 841 7416 7042\nFind your local number: https://us02web.zoom.us/u/kd
 xBpckKoV\n\nContact Soil & Water at 740-670-5330 for additional informatio
 n.
X-WR-RELCALID:545a692ef5971172102d5b8334e5538d
X-WR-TIMEZONE:America/New_York
BEGIN:VTIMEZONE
TZID:America/New_York
BEGIN:STANDARD
TZNAME:EST
DTSTART:20191103T020000
TZOFFSETFROM:-0400
TZOFFSETTO:-0500
RDATE:20201101T020000
RDATE:20211107T020000
END:STANDARD
BEGIN:DAYLIGHT
TZNAME:EDT
DTSTART:20200308T020000
TZOFFSETFROM:-0500
TZOFFSETTO:-0400
RDATE:20210314T020000
END:DAYLIGHT
END:VTIMEZONE
BEGIN:VEVENT
UID:f4ca7008-b20a-491a-9a91-270653236ffa
DTSTAMP:20260423T224736Z
DESCRIPTION:The Board will hold it's regularly scheduled meeting in person.
   Link to the agenda below.  \n\nDue to the orders from the Governor\, the
  public is welcome to join the meeting via Zoom.  You may dial in or use t
 he application to join via Polycom.  \n\n\nTopic: Licking SWCD Board meeti
 ng\nTime: Jun 10\, 2020 04:30 PM Eastern Time (US and Canada)\n\nJoin Zoom
  Meeting\nhttps://us02web.zoom.us/j/84174167042\n\nMeeting ID: 841 7416 70
 42\nOne tap mobile\n+13126266799\,\,84174167042# US (Chicago)\n+1646558865
 6\,\,84174167042# US (New York)\n\nDial by your location\n        +1 312 6
 26 6799 US (Chicago)\n        +1 646 558 8656 US (New York)\n        +1 30
 1 715 8592 US (Germantown)\n        +1 346 248 7799 US (Houston)\n        
 +1 669 900 9128 US (San Jose)\n        +1 253 215 8782 US (Tacoma)\nMeetin
 g ID: 841 7416 7042\nFind your local number: https://us02web.zoom.us/u/kdx
 BpckKoV\n\nContact Soil & Water at 740-670-5330 for additional information
 .
DTSTART;TZID=America/New_York:20200610T163000
DTEND;TZID=America/New_York:20200610T180000
LOCATION:Ag Service Center\, 771 East Main Street\, Newark\, OH
SUMMARY:Soil & Water Board Meeting
END:VEVENT
END:VCALENDAR
