BEGIN:VCALENDAR
VERSION:2.0
PRODID:-//lickingswcd.com//NONSGML kigkonsult.se iCalcreator 2.30.10//
CALSCALE:GREGORIAN
METHOD:PUBLISH
UID:269e89b3-17d2-4340-9871-a4fac12ff180
X-WR-CALDESC:The Board will hold a special board meeting to review and ente
 r into contrast with Muskingum Watershed Conservancy District and River Ra
 ngers Inc. for the purpose of removing a log jam in the Northfork of the L
 icking River.   Link to the agenda below.\n\nDue to the orders from the Go
 vernor\, the public is welcome to join the meeting via Zoom. You may dial 
 in or use the application to join via the link below.\n\nJoin the meeting:
  https://us02web.zoom.us/j/89654110769?pwd=ZGEwbEFsNldFNTF6VnA2STQwc01Gdz0
 9\n\nMeeting ID: 896 5411 0769\nPassword: 813902\nOne tap mobile\n+1312626
 6799\,\,89654110769#\,\,\,\,0#\,\,813902# US (Chicago)\n+16465588656\,\,89
 654110769#\,\,\,\,0#\,\,813902# US (New York)\n\nDial by your location\n  
       +1 312 626 6799 US (Chicago)\n        +1 646 558 8656 US (New York)
 \n       \nMeeting ID: 896 5411 0769\nPassword: 813902\n\n
X-WR-RELCALID:6877e59b748429a59b5e86eef0ec30f2
X-WR-TIMEZONE:America/New_York
BEGIN:VTIMEZONE
TZID:America/New_York
BEGIN:STANDARD
TZNAME:EST
DTSTART:20191103T020000
TZOFFSETFROM:-0400
TZOFFSETTO:-0500
RDATE:20201101T020000
RDATE:20211107T020000
END:STANDARD
BEGIN:DAYLIGHT
TZNAME:EDT
DTSTART:20200308T020000
TZOFFSETFROM:-0500
TZOFFSETTO:-0400
RDATE:20210314T020000
END:DAYLIGHT
END:VTIMEZONE
BEGIN:VEVENT
UID:e94c694b-855f-4480-9b27-b636e47888b2
DTSTAMP:20260423T224525Z
DESCRIPTION:The Board will hold a special board meeting to review and enter
  into contrast with Muskingum Watershed Conservancy District and River Ran
 gers Inc. for the purpose of removing a log jam in the Northfork of the Li
 cking River.   Link to the agenda below.\n\nDue to the orders from the Gov
 ernor\, the public is welcome to join the meeting via Zoom. You may dial i
 n or use the application to join via the link below.\n\nJoin the meeting: 
 https://us02web.zoom.us/j/89654110769?pwd=ZGEwbEFsNldFNTF6VnA2STQwc01Gdz09
 \n\nMeeting ID: 896 5411 0769\nPassword: 813902\nOne tap mobile\n+13126266
 799\,\,89654110769#\,\,\,\,0#\,\,813902# US (Chicago)\n+16465588656\,\,896
 54110769#\,\,\,\,0#\,\,813902# US (New York)\n\nDial by your location\n   
      +1 312 626 6799 US (Chicago)\n        +1 646 558 8656 US (New York)\n
        \nMeeting ID: 896 5411 0769\nPassword: 813902\n\n
DTSTART;TZID=America/New_York:20200625T100000
DTEND;TZID=America/New_York:20200625T110000
LOCATION:
SUMMARY:Special Board Meeting
END:VEVENT
END:VCALENDAR
