BEGIN:VCALENDAR
VERSION:2.0
PRODID:-//lickingswcd.com//NONSGML kigkonsult.se iCalcreator 2.30.10//
CALSCALE:GREGORIAN
METHOD:PUBLISH
UID:5438a761-371f-47fc-8362-bc2702f6eeed
X-WR-CALDESC:To promote the use of cover crops\, the Muskingum Watershed Co
 nservancy District is again providing funding for the Cover Crop Cost-Shar
 e Program to assist producers in planting cover crops to decrease erosion 
 and improve water quality. \n\nLast year in Licking County alone\, cover c
 rop cost-share producers planted almost 2\,500 acres of cover crops and ke
 pt more than 4\,600 tons of soil from eroding into our streams\, 4\,700 po
 unds of phosphorous on the land and 9\,400 pounds of nitrogen out of the w
 aterways.\n\nSoil & Water will be accepting applications until July 3\, 20
 20.   Applications are evaluated individually with fields being scored bas
 ed on several criteria.  Fields that score high enough are approved for co
 st-share funding at a rate of $12/approved acre.  If a producer and field 
 are new to the Program\, the cost-share rate is $15/approved acre.  There 
 is a cap of 200 approved acres per producer. \n\nNew for 2020\, soil test 
 results are required on fields enrolled in the Program.  Tests must be fro
 m within the last 4 years\, and a minimum of every 25 acres\, e.g. 100 acr
 es requires four soil tests\, 15 acres requires one soil test.\n\nA USDA F
 arm Service Agency (FSA) field map must be included with the applications.
   Contact FSA at 740-670-5340 to have your maps printed prior to submittin
 g the application.  \n\nLandowners must make an appointment to apply in-pe
 rson at the Soil & Water office\, 771 E. Main Street\, Suite 100\, Newark\
 , Ohio 43055.  Call (740) 670-5330 to schedule a time with one of our tech
 nicians.
X-WR-RELCALID:19e44cb3a6348962a73feef102e4c1d8
X-WR-TIMEZONE:America/New_York
BEGIN:VTIMEZONE
TZID:America/New_York
BEGIN:STANDARD
TZNAME:EST
DTSTART:20191103T020000
TZOFFSETFROM:-0400
TZOFFSETTO:-0500
RDATE:20201101T020000
RDATE:20211107T020000
END:STANDARD
BEGIN:DAYLIGHT
TZNAME:EDT
DTSTART:20200308T020000
TZOFFSETFROM:-0500
TZOFFSETTO:-0400
RDATE:20210314T020000
END:DAYLIGHT
END:VTIMEZONE
BEGIN:VEVENT
UID:3287ea1f-95ee-463e-9069-68e31381dfa6
DTSTAMP:20260424T003919Z
DESCRIPTION:To promote the use of cover crops\, the Muskingum Watershed Con
 servancy District is again providing funding for the Cover Crop Cost-Share
  Program to assist producers in planting cover crops to decrease erosion a
 nd improve water quality. \n\nLast year in Licking County alone\, cover cr
 op cost-share producers planted almost 2\,500 acres of cover crops and kep
 t more than 4\,600 tons of soil from eroding into our streams\, 4\,700 pou
 nds of phosphorous on the land and 9\,400 pounds of nitrogen out of the wa
 terways.\n\nSoil & Water will be accepting applications until July 3\, 202
 0.   Applications are evaluated individually with fields being scored base
 d on several criteria.  Fields that score high enough are approved for cos
 t-share funding at a rate of $12/approved acre.  If a producer and field a
 re new to the Program\, the cost-share rate is $15/approved acre.  There i
 s a cap of 200 approved acres per producer. \n\nNew for 2020\, soil test r
 esults are required on fields enrolled in the Program.  Tests must be from
  within the last 4 years\, and a minimum of every 25 acres\, e.g. 100 acre
 s requires four soil tests\, 15 acres requires one soil test.\n\nA USDA Fa
 rm Service Agency (FSA) field map must be included with the applications. 
  Contact FSA at 740-670-5340 to have your maps printed prior to submitting
  the application.  \n\nLandowners must make an appointment to apply in-per
 son at the Soil & Water office\, 771 E. Main Street\, Suite 100\, Newark\,
  Ohio 43055.  Call (740) 670-5330 to schedule a time with one of our techn
 icians.
DTSTART;TZID=America/New_York:20200703T000000
DTEND;TZID=America/New_York:20200703T235900
LOCATION:Soil & Water barn\, 771 East Main Street\, Newark\, OH  43055
SUMMARY:Cover Crop Cost Share Applications Due
END:VEVENT
END:VCALENDAR
